BEGIN:VCALENDAR
VERSION:2.0
PRODID:-//Events | FID-Recht//NONSGML Events//EN
CALSCALE:GREGORIAN
X-ORIGINAL-URL:https://events.intrecht.de/termine/
X-WR-CALDESC:Events | FID-Recht - Events
BEGIN:VEVENT
UID:20220914T0729Z-1663140578.6175-EO-5884-1@172.16.200.151
STATUS:CONFIRMED
DTSTAMP:20260422T142945Z
CREATED:20220912T135005Z
LAST-MODIFIED:20220912T135005Z
DTSTART;VALUE=DATE:20221212
DTEND;VALUE=DATE:20221213
SUMMARY: Max Planck Law Winter School – Escuela Intensiva: „Derechos Humano
 s\, Conocimiento Experto y Comunidad de Práctica“ (Tagung)
DESCRIPTION: 12.12.2022\, Heidelberg https://www.mpil.de/de/pub/aktuelles/v
 eranstaltungen.cfm?event=calendar.Display&cat=3&iDisplayID=7&event_ID=808&d
 ate=09/12/2022  
X-ALT-DESC;FMTTYPE=text/html: <p>12.12.2022\, Heidelberg</p><p><a href="htt
 ps://www.mpil.de/de/pub/aktuelles/veranstaltungen.cfm?event=calendar.Displa
 y&cat=3&iDisplayID=7&event_ID=808&date=09/12/2022">https://www.mpil.de/de/p
 ub/aktuelles/veranstaltungen.cfm?event=calendar.Display&cat=3&iDisplayID=7&
 event_ID=808&date=09/12/2022</a></p><p> </p><p>[av_button label='iCal-Expor
 t' link='./feed/eo-events' link_target='' size='small' position='center' la
 bel_display='' title_attr='' icon_select='yes' icon='ue85b' font='entypo-fo
 ntello' color='custom' custom_bg='#b5123e' custom_font='#ffffff' av_uid='' 
 id='' custom_class='' admin_preview_bg='']</p>
CATEGORIES:Europäisches / Internationales Recht
LOCATION:Inland
GEO:0.000000;0.000000
ORGANIZER;CN="ViFa-Recht":MAILTO:vifa-recht@sbb.spk-berlin.de
URL;VALUE=URI:https://events.intrecht.de/termine/termin/max-planck-law-wint
 er-school-escuela-intensiva-derechos-humanos-conocimiento-experto-y-comunid
 ad-de-practica-tagung/
END:VEVENT
BEGIN:VTIMEZONE
TZID:Europe/Berlin
BEGIN:STANDARD
TZOFFSETFROM:+0200
TZOFFSETTO:+0100
DTSTART:20221030T010000
TZNAME:CET
END:STANDARD
END:VTIMEZONE
END:VCALENDAR
