BEGIN:VCALENDAR
VERSION:2.0
PRODID:-//Events | FID-Recht//NONSGML Events//EN
CALSCALE:GREGORIAN
X-ORIGINAL-URL:https://events.intrecht.de/termine/
X-WR-CALDESC:Events | FID-Recht - Events
BEGIN:VEVENT
UID:20220221T0302Z-1645412528.4095-EO-4001-1@172.16.200.141
STATUS:CONFIRMED
DTSTAMP:20260425T213759Z
CREATED:20220217T103304Z
LAST-MODIFIED:20220217T103304Z
DTSTART;VALUE=DATE:20220303
DTEND;VALUE=DATE:20220304
SUMMARY: Maternal Lineage and Nationality – The Perspective of Iran’s New A
 ct (with Samira Soleymanzadeh) (Online-Vortrag)
DESCRIPTION: 3.3.2022\, Online Afternoon Talk on Islamic Law: Nils Fischer 
 (Vincent Pallotti University) (mpipriv.de)    
X-ALT-DESC;FMTTYPE=text/html: <p>3.3.2022\, Online</p><p><a href="https://e
 vents.mpipriv.de/afternoon-talk-on-islamic-law-samira-soleymanzadeh">Aftern
 oon Talk on Islamic Law: Nils Fischer (Vincent Pallotti University) (mpipri
 v.de)</a></p><p> </p><p> </p><p>[av_button label='iCal-Export' link='./feed
 /eo-events' link_target='' size='small' position='center' label_display='' 
 title_attr='' icon_select='yes' icon='ue85b' font='entypo-fontello' color='
 custom' custom_bg='#b5123e' custom_font='#ffffff' av_uid='' id='' custom_cl
 ass='' admin_preview_bg='']</p>
CATEGORIES:Zivilrecht
LOCATION:Online
GEO:0.000000;0.000000
ORGANIZER;CN="ViFa-Recht":MAILTO:vifa-recht@sbb.spk-berlin.de
URL;VALUE=URI:https://events.intrecht.de/termine/termin/maternal-lineage-an
 d-nationality-the-perspective-of-irans-new-act-with-samira-soleymanzadeh-on
 line-vortrag/
END:VEVENT
BEGIN:VTIMEZONE
TZID:Europe/Berlin
BEGIN:STANDARD
TZOFFSETFROM:+0200
TZOFFSETTO:+0100
DTSTART:20211031T010000
TZNAME:CET
END:STANDARD
END:VTIMEZONE
END:VCALENDAR
