BEGIN:VCALENDAR
VERSION:2.0
PRODID:-//Events | FID-Recht//NONSGML Events//EN
CALSCALE:GREGORIAN
X-ORIGINAL-URL:https://events.intrecht.de/termine/
X-WR-CALDESC:Events | FID-Recht - Events
BEGIN:VEVENT
UID:20200603T1418Z-1591193923.3362-EO-587-1@172.16.200.141
STATUS:CONFIRMED
DTSTAMP:20260422T071435Z
CREATED:20240205T143803Z
LAST-MODIFIED:20240205T143803Z
DTSTART;VALUE=DATE:20240617
DTEND;VALUE=DATE:20240620
SUMMARY: Making Rights Reality: The Human Rights of Undocumented Migrant Wo
 rkers (Conference)
DESCRIPTION: 17.-19.6.2024 / Amsterdam (Einreichungsfrist: 1.3.2024) https:
 //acmrl.org/wp-content/uploads/2024/01/CfP-The-Human-Rights-of-Migrant-Work
 ers.pdf
X-ALT-DESC;FMTTYPE=text/html: <p>17.-19.6.2024 / Amsterdam <strong>(Einreic
 hungsfrist: 1.3.2024)</strong></p><p><a href="https://acmrl.org/wp-content/
 uploads/2024/01/CfP-The-Human-Rights-of-Migrant-Workers.pdf">https://acmrl.
 org/wp-content/uploads/2024/01/CfP-The-Human-Rights-of-Migrant-Workers.pdf<
 /a></p><p>[av_button label='iCal-Export' link='./feed/eo-events' link_targe
 t='' size='small' position='center' label_display='' title_attr='' icon_sel
 ect='yes' icon='ue85b' font='entypo-fontello' color='custom' custom_bg='#b5
 123e' custom_font='#ffffff' av_uid='' id='' custom_class='' admin_preview_b
 g='']</p>
CATEGORIES:Recht interdisziplinär
LOCATION:Ausland
GEO:0.000000;0.000000
ORGANIZER;CN="ViFa-Recht":MAILTO:vifa-recht@sbb.spk-berlin.de
URL;VALUE=URI:https://events.intrecht.de/termine/termin/making-rights-reali
 ty-the-human-rights-of-undocumented-migrant-workers-conference/
END:VEVENT
BEGIN:VTIMEZONE
TZID:Europe/Berlin
BEGIN:DAYLIGHT
TZOFFSETFROM:+0100
TZOFFSETTO:+0200
DTSTART:20240331T010000
TZNAME:CEST
END:DAYLIGHT
END:VTIMEZONE
END:VCALENDAR
