BEGIN:VCALENDAR
VERSION:2.0
PRODID:-//Events | FID-Recht//NONSGML Events//EN
CALSCALE:GREGORIAN
X-ORIGINAL-URL:https://events.intrecht.de/termine/
X-WR-CALDESC:Events | FID-Recht - Events
BEGIN:VEVENT
UID:20200603T1418Z-1591193923.3362-EO-587-1@172.16.200.141
STATUS:CONFIRMED
DTSTAMP:20260425T202018Z
CREATED:20231025T093537Z
LAST-MODIFIED:20231025T093537Z
DTSTART;VALUE=DATE:20231102
DTEND;VALUE=DATE:20231103
SUMMARY: Making a Difference: Women in the Legal Profession (Webinar / The 
 Human Rights & Rule of Law Speaker Series)
DESCRIPTION: 2.11.2023 / Online https://docs.google.com/forms/d/e/1FAIpQLSf
 WF_fh_rDNODVWvxfHH3sDIqXRamup7ZkAYWWdVmuDkP-jcQ/viewform
X-ALT-DESC;FMTTYPE=text/html: <p>2.11.2023 / Online</p><p><a href="https://
 docs.google.com/forms/d/e/1FAIpQLSfWF_fh_rDNODVWvxfHH3sDIqXRamup7ZkAYWWdVmu
 DkP-jcQ/viewform">https://docs.google.com/forms/d/e/1FAIpQLSfWF_fh_rDNODVWv
 xfHH3sDIqXRamup7ZkAYWWdVmuDkP-jcQ/viewform</a></p><p>[av_button label='iCal
 -Export' link='./feed/eo-events' link_target='' size='small' position='cent
 er' label_display='' title_attr='' icon_select='yes' icon='ue85b' font='ent
 ypo-fontello' color='custom' custom_bg='#b5123e' custom_font='#ffffff' av_u
 id='' id='' custom_class='' admin_preview_bg='']</p>
CATEGORIES:Recht interdisziplinär
LOCATION:Online
GEO:0.000000;0.000000
ORGANIZER;CN="ViFa-Recht":MAILTO:vifa-recht@sbb.spk-berlin.de
URL;VALUE=URI:https://events.intrecht.de/termine/termin/making-a-difference
 -women-in-the-legal-profession-webinar-the-human-rights-rule-of-law-speaker
 -series/
END:VEVENT
BEGIN:VTIMEZONE
TZID:Europe/Berlin
BEGIN:STANDARD
TZOFFSETFROM:+0200
TZOFFSETTO:+0100
DTSTART:20231029T010000
TZNAME:CET
END:STANDARD
END:VTIMEZONE
END:VCALENDAR
