BEGIN:VCALENDAR
VERSION:2.0
PRODID:-//Events | FID-Recht//NONSGML Events//EN
CALSCALE:GREGORIAN
X-ORIGINAL-URL:https://events.intrecht.de/termine/
X-WR-CALDESC:Events | FID-Recht - Events
BEGIN:VEVENT
UID:20200603T1418Z-1591193923.3362-EO-587-1@172.16.200.141
STATUS:CONFIRMED
DTSTAMP:20260422T154456Z
CREATED:20240809T073003Z
LAST-MODIFIED:20240809T073003Z
DTSTART;VALUE=DATE:20240919
DTEND;VALUE=DATE:20240920
SUMMARY: Make Europe wild again: International commitments and European obl
 igations on nature conservation and restoration (Hybrid Event)
DESCRIPTION: 19.9.2024 / Online und Maastricht https://www.maastrichtuniver
 sity.nl/events/environmental-law-lecture-series
X-ALT-DESC;FMTTYPE=text/html: <p>19.9.2024 / Online und Maastricht</p><p><a
  href="https://www.maastrichtuniversity.nl/events/environmental-law-lecture
 -series">https://www.maastrichtuniversity.nl/events/environmental-law-lectu
 re-series</a></p><p>[av_button label='iCal-Export' link='./feed/eo-events' 
 link_target='' size='small' position='center' label_display='' title_attr='
 ' icon_select='yes' icon='ue85b' font='entypo-fontello' color='custom' cust
 om_bg='#b5123e' custom_font='#ffffff' av_uid='' id='' custom_class='' admin
 _preview_bg='']</p>
CATEGORIES:Europäisches / Internationales Recht
LOCATION:Hybrid
GEO:0.000000;0.000000
ORGANIZER;CN="ViFa-Recht":MAILTO:vifa-recht@sbb.spk-berlin.de
URL;VALUE=URI:https://events.intrecht.de/termine/termin/make-europe-wild-ag
 ain-international-commitments-and-european-obligations-on-nature-conservati
 on-and-restoration-hybrid-event/
END:VEVENT
BEGIN:VTIMEZONE
TZID:Europe/Berlin
BEGIN:DAYLIGHT
TZOFFSETFROM:+0100
TZOFFSETTO:+0200
DTSTART:20240331T010000
TZNAME:CEST
END:DAYLIGHT
END:VTIMEZONE
END:VCALENDAR
