BEGIN:VCALENDAR
VERSION:2.0
PRODID:-//Events | FID-Recht//NONSGML Events//EN
CALSCALE:GREGORIAN
X-ORIGINAL-URL:https://events.intrecht.de/termine/
X-WR-CALDESC:Events | FID-Recht - Events
BEGIN:VEVENT
UID:20220914T1258Z-1663160289.3448-EO-5886-1@172.16.200.151
STATUS:CONFIRMED
DTSTAMP:20260422T175632Z
CREATED:20220912T135701Z
LAST-MODIFIED:20220912T135740Z
DTSTART;VALUE=DATE:20220922
DTEND;VALUE=DATE:20220923
SUMMARY: Madame de Staël en haar kring/Mme de Staël and her circle (Symposi
 um)
DESCRIPTION: 22.9.2022\, Brüssel https://vubcore.blogspot.com/2022/09/sympo
 sium-2022-mme-de-stael-en-haar.html  
X-ALT-DESC;FMTTYPE=text/html: <p>22.9.2022\, Brüssel</p><p><a href="https:/
 /vubcore.blogspot.com/2022/09/symposium-2022-mme-de-stael-en-haar.html">htt
 ps://vubcore.blogspot.com/2022/09/symposium-2022-mme-de-stael-en-haar.html<
 /a></p><p> </p><p>[av_button label='iCal-Export' link='./feed/eo-events' li
 nk_target='' size='small' position='center' label_display='' title_attr='' 
 icon_select='yes' icon='ue85b' font='entypo-fontello' color='custom' custom
 _bg='#b5123e' custom_font='#ffffff' av_uid='' id='' custom_class='' admin_p
 review_bg='']</p>
CATEGORIES:Recht interdisziplinär
LOCATION:Ausland
GEO:0.000000;0.000000
ORGANIZER;CN="ViFa-Recht":MAILTO:vifa-recht@sbb.spk-berlin.de
URL;VALUE=URI:https://events.intrecht.de/termine/termin/madame-de-stael-en-
 haar-kring-mme-de-stael-and-her-circle-symposium/
END:VEVENT
BEGIN:VTIMEZONE
TZID:Europe/Berlin
BEGIN:DAYLIGHT
TZOFFSETFROM:+0100
TZOFFSETTO:+0200
DTSTART:20220327T010000
TZNAME:CEST
END:DAYLIGHT
END:VTIMEZONE
END:VCALENDAR
