BEGIN:VCALENDAR
VERSION:2.0
PRODID:-//Events | FID-Recht//NONSGML Events//EN
CALSCALE:GREGORIAN
X-ORIGINAL-URL:https://events.intrecht.de/termine/
X-WR-CALDESC:Events | FID-Recht - Events
BEGIN:VEVENT
UID:20201118T0807Z-1605686848.0606-EO-2216-1@172.16.200.141
STATUS:CONFIRMED
DTSTAMP:20260421T170317Z
CREATED:20201111T180000Z
LAST-MODIFIED:20201111T180000Z
DTSTART;VALUE=DATE:20201118
DTEND;VALUE=DATE:20201118
SUMMARY: M.A. Human Rights Inaugural Lecture 2020: Human Rights Investigati
 ons in the Digital Age (mit Alexa Koenig) (Online-Vortrag)
DESCRIPTION: 18.11.2020\, Online https://www.cl1.rw.fau.de/events/m-a-human
 -rights-inaugural-lecture-2020-alexa-koenig-human-rights-investigations-in-
 the-digital-age/  
X-ALT-DESC;FMTTYPE=text/html: <p>18.11.2020\, Online</p><p><a href="https:/
 /www.cl1.rw.fau.de/events/m-a-human-rights-inaugural-lecture-2020-alexa-koe
 nig-human-rights-investigations-in-the-digital-age/">https://www.cl1.rw.fau
 .de/events/m-a-human-rights-inaugural-lecture-2020-alexa-koenig-human-right
 s-investigations-in-the-digital-age/</a></p><p> </p><p>[av_button label='iC
 al-Export' link='./feed/eo-events' link_target='' size='small' position='ce
 nter' label_display='' title_attr='' icon_select='yes' icon='ue85b' font='e
 ntypo-fontello' color='custom' custom_bg='#b5123e' custom_font='#ffffff' av
 _uid='' id='' custom_class='' admin_preview_bg='']</p>
CATEGORIES:Europäisches / Internationales Recht
LOCATION:Online
GEO:0.000000;0.000000
ORGANIZER;CN="ViFa-Recht":MAILTO:vifa-recht@sbb.spk-berlin.de
URL;VALUE=URI:https://events.intrecht.de/termine/termin/m-a-human-rights-in
 augural-lecture-2020-human-rights-investigations-in-the-digital-age-mit-ale
 xa-koenig-online-vortrag/
END:VEVENT
BEGIN:VTIMEZONE
TZID:Europe/Berlin
BEGIN:STANDARD
TZOFFSETFROM:+0200
TZOFFSETTO:+0100
DTSTART:20201025T010000
TZNAME:CET
END:STANDARD
END:VTIMEZONE
END:VCALENDAR
