BEGIN:VCALENDAR
VERSION:2.0
PRODID:-//Events | FID-Recht//NONSGML Events//EN
CALSCALE:GREGORIAN
X-ORIGINAL-URL:https://events.intrecht.de/termine/
X-WR-CALDESC:Events | FID-Recht - Events
BEGIN:VEVENT
UID:20220610T0115Z-1654823728.2569-EO-4035-1@172.16.200.151
STATUS:CONFIRMED
DTSTAMP:20260421T102400Z
CREATED:20220608T085435Z
LAST-MODIFIED:20220608T085435Z
DTSTART;VALUE=DATE:20220609
DTEND;VALUE=DATE:20220612
SUMMARY: Longtermism and the Law (Tagung)
DESCRIPTION: 9.-11.6.2022\, Hamburg (Frist für Einreichungen: 15.2.2022) ht
 tps://www.longtermismandthelaw.com/  
X-ALT-DESC;FMTTYPE=text/html: <p>9.-11.6.2022\, Hamburg (Frist für Einreich
 ungen: 15.2.2022)</p><p><a href="https://www.longtermismandthelaw.com/">htt
 ps://www.longtermismandthelaw.com/</a></p><p> </p><p>[av_button label='iCal
 -Export' link='./feed/eo-events' link_target='' size='small' position='cent
 er' label_display='' title_attr='' icon_select='yes' icon='ue85b' font='ent
 ypo-fontello' color='custom' custom_bg='#b5123e' custom_font='#ffffff' av_u
 id='' id='' custom_class='' admin_preview_bg='']</p>
CATEGORIES:Recht interdisziplinär
LOCATION:Inland
GEO:0.000000;0.000000
ORGANIZER;CN="ViFa-Recht":MAILTO:vifa-recht@sbb.spk-berlin.de
URL;VALUE=URI:https://events.intrecht.de/termine/termin/longtermism-and-the
 -law-tagung-2/
END:VEVENT
BEGIN:VTIMEZONE
TZID:Europe/Berlin
BEGIN:DAYLIGHT
TZOFFSETFROM:+0100
TZOFFSETTO:+0200
DTSTART:20220327T010000
TZNAME:CEST
END:DAYLIGHT
END:VTIMEZONE
END:VCALENDAR
