BEGIN:VCALENDAR
VERSION:2.0
PRODID:-//Events | FID-Recht//NONSGML Events//EN
CALSCALE:GREGORIAN
X-ORIGINAL-URL:https://events.intrecht.de/termine/
X-WR-CALDESC:Events | FID-Recht - Events
BEGIN:VEVENT
UID:20200603T1418Z-1591193923.3362-EO-587-1@172.16.200.141
STATUS:CONFIRMED
DTSTAMP:20260425T144116Z
CREATED:20230320T100444Z
LAST-MODIFIED:20230320T100444Z
DTSTART;VALUE=DATE:20230630
DTEND;VALUE=DATE:20230702
SUMMARY: London Conference in Critical Thought 2023
DESCRIPTION: 30.6.-1.7.2023 / London http://londoncritical.org/about-the-lc
 ct/call-for-streams
X-ALT-DESC;FMTTYPE=text/html: <p>30.6.-1.7.2023 / London</p><p><a href="htt
 p://londoncritical.org/about-the-lcct/call-for-streams">http://londoncritic
 al.org/about-the-lcct/call-for-streams</a></p><p>[av_button label='iCal-Exp
 ort' link='./feed/eo-events' link_target='' size='small' position='center' 
 label_display='' title_attr='' icon_select='yes' icon='ue85b' font='entypo-
 fontello' color='custom' custom_bg='#b5123e' custom_font='#ffffff' av_uid='
 ' id='' custom_class='' admin_preview_bg='']</p>
CATEGORIES:Recht interdisziplinär
LOCATION:Ausland
GEO:0.000000;0.000000
ORGANIZER;CN="ViFa-Recht":MAILTO:vifa-recht@sbb.spk-berlin.de
URL;VALUE=URI:https://events.intrecht.de/termine/termin/london-conference-i
 n-critical-thought-2023/
END:VEVENT
BEGIN:VTIMEZONE
TZID:Europe/Berlin
BEGIN:DAYLIGHT
TZOFFSETFROM:+0100
TZOFFSETTO:+0200
DTSTART:20230326T010000
TZNAME:CEST
END:DAYLIGHT
END:VTIMEZONE
END:VCALENDAR
