BEGIN:VCALENDAR
VERSION:2.0
PRODID:-//Events | FID-Recht//NONSGML Events//EN
CALSCALE:GREGORIAN
X-ORIGINAL-URL:https://events.intrecht.de/termine/
X-WR-CALDESC:Events | FID-Recht - Events
BEGIN:VEVENT
UID:20201217T0217Z-1608171429.0873-EO-2857-1@172.16.200.141
STATUS:CONFIRMED
DTSTAMP:20260425T151146Z
CREATED:20201210T171749Z
LAST-MODIFIED:20201210T171931Z
DTSTART;TZID=Europe/Berlin:20210204T170000
DTEND;TZID=Europe/Berlin:20210204T190000
SUMMARY: Lois fondamentales et succession royale\, enjeux terminologiques (
 avec Aurore Causin) (Online-Vortrag)
DESCRIPTION: 4.2.2021\, Online https://univ-droit.fr/actualites-de-la-reche
 rche/manifestations/35989-regimes-dynastiques-et-modernite-politique  
X-ALT-DESC;FMTTYPE=text/html: <p>4.2.2021\, Online</p><p><a href="https://u
 niv-droit.fr/actualites-de-la-recherche/manifestations/35989-regimes-dynast
 iques-et-modernite-politique">https://univ-droit.fr/actualites-de-la-recher
 che/manifestations/35989-regimes-dynastiques-et-modernite-politique</a></p>
 <p> </p><p>[av_button label='iCal-Export' link='./feed/eo-events' link_targ
 et='' size='small' position='center' label_display='' title_attr='' icon_se
 lect='yes' icon='ue85b' font='entypo-fontello' color='custom' custom_bg='#b
 5123e' custom_font='#ffffff' av_uid='' id='' custom_class='' admin_preview_
 bg='']</p>
CATEGORIES:Recht interdisziplinär
LOCATION:Online
GEO:0.000000;0.000000
ORGANIZER;CN="ViFa-Recht":MAILTO:vifa-recht@sbb.spk-berlin.de
URL;VALUE=URI:https://events.intrecht.de/termine/termin/lois-fondamentales-
 et-succession-royale-enjeux-terminologiques-avec-aurore-causin-online-vortr
 ag/
END:VEVENT
BEGIN:VTIMEZONE
TZID:Europe/Berlin
BEGIN:STANDARD
TZOFFSETFROM:+0200
TZOFFSETTO:+0100
DTSTART:20201025T010000
TZNAME:CET
END:STANDARD
END:VTIMEZONE
END:VCALENDAR
