BEGIN:VCALENDAR
VERSION:2.0
PRODID:-//Events | FID-Recht//NONSGML Events//EN
CALSCALE:GREGORIAN
X-ORIGINAL-URL:https://events.intrecht.de/termine/
X-WR-CALDESC:Events | FID-Recht - Events
BEGIN:VEVENT
UID:20220627T0411Z-1656303115.827-EO-4311-1@172.16.200.151
STATUS:CONFIRMED
DTSTAMP:20260421T151715Z
CREATED:20220623T171325Z
LAST-MODIFIED:20220623T171325Z
DTSTART;VALUE=DATE:20220629
DTEND;VALUE=DATE:20220702
SUMMARY: Literatur vor Gericht – Freiheit der Kunst oder Schutz der Persönl
 ichkeit? (Tagung)
DESCRIPTION: 29.6.-1.7.2022\, Marburg Literatur vor Gericht: Freiheit der K
 unst oder Schutz der Persönlichkeit? | H-Soz-Kult. Kommunikation und Fachin
 formation für die Geschichtswissenschaften | Geschichte im Netz | History i
 n the web (hsozkult.de)  
X-ALT-DESC;FMTTYPE=text/html: <p>29.6.-1.7.2022\, Marburg</p><p><a href="ht
 tps://www.hsozkult.de/event/id/event-118692">Literatur vor Gericht: Freihei
 t der Kunst oder Schutz der Persönlichkeit? | H-Soz-Kult. Kommunikation und
  Fachinformation für die Geschichtswissenschaften | Geschichte im Netz | Hi
 story in the web (hsozkult.de)</a></p><p> </p><p>[av_button label='iCal-Exp
 ort' link='./feed/eo-events' link_target='' size='small' position='center' 
 label_display='' title_attr='' icon_select='yes' icon='ue85b' font='entypo-
 fontello' color='custom' custom_bg='#b5123e' custom_font='#ffffff' av_uid='
 ' id='' custom_class='' admin_preview_bg='']</p>
CATEGORIES:Recht interdisziplinär
LOCATION:Inland
GEO:0.000000;0.000000
ORGANIZER;CN="ViFa-Recht":MAILTO:vifa-recht@sbb.spk-berlin.de
URL;VALUE=URI:https://events.intrecht.de/termine/termin/literatur-vor-geric
 ht-freiheit-der-kunst-oder-schutz-der-persoenlichkeit-tagung/
END:VEVENT
BEGIN:VTIMEZONE
TZID:Europe/Berlin
BEGIN:DAYLIGHT
TZOFFSETFROM:+0100
TZOFFSETTO:+0200
DTSTART:20220327T010000
TZNAME:CEST
END:DAYLIGHT
END:VTIMEZONE
END:VCALENDAR
