BEGIN:VCALENDAR
VERSION:2.0
PRODID:-//Events | FID-Recht//NONSGML Events//EN
CALSCALE:GREGORIAN
X-ORIGINAL-URL:https://events.intrecht.de/termine/
X-WR-CALDESC:Events | FID-Recht - Events
BEGIN:VEVENT
UID:20220415T2324Z-1650065064.6479-EO-6678-1@172.16.200.141
STATUS:CONFIRMED
DTSTAMP:20260421T102857Z
CREATED:20220405T125945Z
LAST-MODIFIED:20220405T125945Z
DTSTART;VALUE=DATE:20220428
DTEND;VALUE=DATE:20220501
SUMMARY: Literatur und Strafrecht im 17. Und 18. Jahrhundert II – Verbreche
 n wider die Natur (Tagung)
DESCRIPTION: 28.-30.4.2022\, Münster flyer_workshop_2020_verbrechen_wider_d
 ie_natur.pdf (uni-muenster.de)  
X-ALT-DESC;FMTTYPE=text/html: <p>28.-30.4.2022\, Münster</p><p><a href="htt
 ps://www.uni-muenster.de/imperia/md/content/SFB1385/flyer_workshop_2020_ver
 brechen_wider_die_natur.pdf">flyer_workshop_2020_verbrechen_wider_die_natur
 .pdf (uni-muenster.de)</a></p><p> </p><p>[av_button label='iCal-Export' lin
 k='./feed/eo-events' link_target='' size='small' position='center' label_di
 splay='' title_attr='' icon_select='yes' icon='ue85b' font='entypo-fontello
 ' color='custom' custom_bg='#b5123e' custom_font='#ffffff' av_uid='' id='' 
 custom_class='' admin_preview_bg='']</p>
CATEGORIES:Recht interdisziplinär
LOCATION:Inland
GEO:0.000000;0.000000
ORGANIZER;CN="ViFa-Recht":MAILTO:vifa-recht@sbb.spk-berlin.de
URL;VALUE=URI:https://events.intrecht.de/termine/termin/literatur-und-straf
 recht-im-17-und-18-jahrhundert-ii-verbrechen-wider-die-natur-tagung/
END:VEVENT
BEGIN:VTIMEZONE
TZID:Europe/Berlin
BEGIN:DAYLIGHT
TZOFFSETFROM:+0100
TZOFFSETTO:+0200
DTSTART:20220327T010000
TZNAME:CEST
END:DAYLIGHT
END:VTIMEZONE
END:VCALENDAR
