BEGIN:VCALENDAR
VERSION:2.0
PRODID:-//Events | FID-Recht//NONSGML Events//EN
CALSCALE:GREGORIAN
X-ORIGINAL-URL:https://events.intrecht.de/termine/
X-WR-CALDESC:Events | FID-Recht - Events
BEGIN:VEVENT
UID:20200603T1418Z-1591193923.3362-EO-587-1@172.16.200.141
STATUS:CONFIRMED
DTSTAMP:20260426T030749Z
CREATED:20230613T150508Z
LAST-MODIFIED:20230613T150508Z
DTSTART;VALUE=DATE:20230620
DTEND;VALUE=DATE:20230621
SUMMARY: Liberalism between Two Cold Wars (Vortrag)
DESCRIPTION: 20.6.2023 / Berlin https://kfg-intlaw.de/News%20and%20Events/n
 ews_einzel.php?ID=251
X-ALT-DESC;FMTTYPE=text/html: <p>20.6.2023 / Berlin</p><p><a href="https://
 kfg-intlaw.de/News%20and%20Events/news_einzel.php?ID=251">https://kfg-intla
 w.de/News%20and%20Events/news_einzel.php?ID=251</a></p><p>[av_button label=
 'iCal-Export' link='./feed/eo-events' link_target='' size='small' position=
 'center' label_display='' title_attr='' icon_select='yes' icon='ue85b' font
 ='entypo-fontello' color='custom' custom_bg='#b5123e' custom_font='#ffffff'
  av_uid='' id='' custom_class='' admin_preview_bg='']</p>
CATEGORIES:Recht interdisziplinär
LOCATION:Inland
GEO:0.000000;0.000000
ORGANIZER;CN="ViFa-Recht":MAILTO:vifa-recht@sbb.spk-berlin.de
URL;VALUE=URI:https://events.intrecht.de/termine/termin/liberalism-between-
 two-cold-wars-vortrag/
END:VEVENT
BEGIN:VTIMEZONE
TZID:Europe/Berlin
BEGIN:DAYLIGHT
TZOFFSETFROM:+0100
TZOFFSETTO:+0200
DTSTART:20230326T010000
TZNAME:CEST
END:DAYLIGHT
END:VTIMEZONE
END:VCALENDAR
