BEGIN:VCALENDAR
VERSION:2.0
PRODID:-//Events | FID-Recht//NONSGML Events//EN
CALSCALE:GREGORIAN
X-ORIGINAL-URL:https://events.intrecht.de/termine/
X-WR-CALDESC:Events | FID-Recht - Events
BEGIN:VEVENT
UID:20200603T1418Z-1591193923.3362-EO-587-1@172.16.200.141
STATUS:CONFIRMED
DTSTAMP:20260422T124013Z
CREATED:20240209T100335Z
LAST-MODIFIED:20240209T100335Z
DTSTART;VALUE=DATE:20240219
DTEND;VALUE=DATE:20240220
SUMMARY: Liability of Board Members in the Face of Unclear Legal Questions 
 (Virtual Lecture / Current Research on Turkish Law)
DESCRIPTION: 19.2.2024 / Online https://events.mpipriv.de/current_research_
 turkish_law_kerem_celikboya
X-ALT-DESC;FMTTYPE=text/html: <p>19.2.2024 / Online</p><p><a href="https://
 events.mpipriv.de/current_research_turkish_law_kerem_celikboya">https://eve
 nts.mpipriv.de/current_research_turkish_law_kerem_celikboya</a></p><p>[av_b
 utton label='iCal-Export' link='./feed/eo-events' link_target='' size='smal
 l' position='center' label_display='' title_attr='' icon_select='yes' icon=
 'ue85b' font='entypo-fontello' color='custom' custom_bg='#b5123e' custom_fo
 nt='#ffffff' av_uid='' id='' custom_class='' admin_preview_bg='']</p>
CATEGORIES:Zivilrecht
LOCATION:Online
GEO:0.000000;0.000000
ORGANIZER;CN="ViFa-Recht":MAILTO:vifa-recht@sbb.spk-berlin.de
URL;VALUE=URI:https://events.intrecht.de/termine/termin/liability-of-board-
 members-in-the-face-of-unclear-legal-questions-virtual-lecture-current-rese
 arch-on-turkish-law/
END:VEVENT
BEGIN:VTIMEZONE
TZID:Europe/Berlin
BEGIN:STANDARD
TZOFFSETFROM:+0200
TZOFFSETTO:+0100
DTSTART:20231029T010000
TZNAME:CET
END:STANDARD
END:VTIMEZONE
END:VCALENDAR
