BEGIN:VCALENDAR
VERSION:2.0
PRODID:-//Events | FID-Recht//NONSGML Events//EN
CALSCALE:GREGORIAN
X-ORIGINAL-URL:https://events.intrecht.de/termine/
X-WR-CALDESC:Events | FID-Recht - Events
BEGIN:VEVENT
UID:20201216T1529Z-1608132567.2698-EO-2504-1@172.16.200.141
STATUS:CONFIRMED
DTSTAMP:20260421T102715Z
CREATED:20201211T182943Z
LAST-MODIFIED:20201211T182943Z
DTSTART;VALUE=DATE:20201217
DTEND;VALUE=DATE:20201217
SUMMARY: Les contrats de mariage royaux et le rapport à l’héritage (avec Fa
 nny Cosandey) (Online-Vortrag)
DESCRIPTION: 17.12.2020\, Online https://univ-droit.fr/actualites-de-la-rec
 herche/manifestations/35989-regimes-dynastiques-et-modernite-politique     
  
X-ALT-DESC;FMTTYPE=text/html: <p>17.12.2020\, Online</p><p><a href="https:/
 /univ-droit.fr/actualites-de-la-recherche/manifestations/35989-regimes-dyna
 stiques-et-modernite-politique">https://univ-droit.fr/actualites-de-la-rech
 erche/manifestations/35989-regimes-dynastiques-et-modernite-politique</a></
 p><p> </p><p> </p><p> </p><p>[av_button label='iCal-Export' link='./feed/eo
 -events' link_target='' size='small' position='center' label_display='' tit
 le_attr='' icon_select='yes' icon='ue85b' font='entypo-fontello' color='cus
 tom' custom_bg='#b5123e' custom_font='#ffffff' av_uid='' id='' custom_class
 ='' admin_preview_bg='']</p>
CATEGORIES:Recht interdisziplinär
LOCATION:Online
GEO:0.000000;0.000000
ORGANIZER;CN="ViFa-Recht":MAILTO:vifa-recht@sbb.spk-berlin.de
URL;VALUE=URI:https://events.intrecht.de/termine/termin/les-contrats-de-mar
 iage-royaux-et-le-rapport-a-lheritage-avec-fanny-cosandey-online-vortrag-2/
END:VEVENT
BEGIN:VTIMEZONE
TZID:Europe/Berlin
BEGIN:STANDARD
TZOFFSETFROM:+0200
TZOFFSETTO:+0100
DTSTART:20201025T010000
TZNAME:CET
END:STANDARD
END:VTIMEZONE
END:VCALENDAR
