BEGIN:VCALENDAR
VERSION:2.0
PRODID:-//Events | FID-Recht//NONSGML Events//EN
CALSCALE:GREGORIAN
X-ORIGINAL-URL:https://events.intrecht.de/termine/
X-WR-CALDESC:Events | FID-Recht - Events
BEGIN:VEVENT
UID:20210904T1106Z-1630753579.8852-EO-4163-1@172.16.200.141
STATUS:CONFIRMED
DTSTAMP:20260420T111439Z
CREATED:20210902T082659Z
LAST-MODIFIED:20210902T082659Z
DTSTART;VALUE=DATE:20210921
DTEND;VALUE=DATE:20210922
SUMMARY: Legality by design – the Example of Deep Fake Regulation (mit Gabo
 r Polyak) (Online-Vortrag)
DESCRIPTION: 21.9.2021\, Online (share) Digital Rights in Context – Lecture
  Series (leibniz-hbi.de)  
X-ALT-DESC;FMTTYPE=text/html: <p>21.9.2021\, Online</p><p><a href="https://
 leibniz-hbi.de/uploads/media/default/cms/media/xb7mpnd_(share)%20Digital%20
 Rights%20in%20Context%20-%20Lecture%20Series.pdf">(share) Digital Rights in
  Context - Lecture Series (leibniz-hbi.de)</a></p><p> </p><p>[av_button lab
 el='iCal-Export' link='./feed/eo-events' link_target='' size='small' positi
 on='center' label_display='' title_attr='' icon_select='yes' icon='ue85b' f
 ont='entypo-fontello' color='custom' custom_bg='#b5123e' custom_font='#ffff
 ff' av_uid='' id='' custom_class='' admin_preview_bg='']</p>
CATEGORIES:Recht interdisziplinär
LOCATION:Online
GEO:0.000000;0.000000
ORGANIZER;CN="ViFa-Recht":MAILTO:vifa-recht@sbb.spk-berlin.de
URL;VALUE=URI:https://events.intrecht.de/termine/termin/legality-by-design-
 the-example-of-deep-fake-regulation-mit-gabor-polyak-online-vortrag/
END:VEVENT
BEGIN:VTIMEZONE
TZID:Europe/Berlin
BEGIN:DAYLIGHT
TZOFFSETFROM:+0100
TZOFFSETTO:+0200
DTSTART:20210328T010000
TZNAME:CEST
END:DAYLIGHT
END:VTIMEZONE
END:VCALENDAR
