BEGIN:VCALENDAR
VERSION:2.0
PRODID:-//Events | FID-Recht//NONSGML Events//EN
CALSCALE:GREGORIAN
X-ORIGINAL-URL:https://events.intrecht.de/termine/
X-WR-CALDESC:Events | FID-Recht - Events
BEGIN:VEVENT
UID:20200603T1418Z-1591193923.3362-EO-587-1@172.16.200.141
STATUS:CONFIRMED
DTSTAMP:20260425T181006Z
CREATED:20240719T130647Z
LAST-MODIFIED:20240719T130647Z
DTSTART;VALUE=DATE:20241121
DTEND;VALUE=DATE:20241123
SUMMARY: Legal Unification through Case Law? (Tagung)
DESCRIPTION: 21.-22.11.2024 / Regensburg https://www.hsozkult.de/event/id/e
 vent-145331?title=legal-unification-through-case-law&recno=1&q=rechtswissen
 schaft&sort=newestPublished&fq=&total=9
X-ALT-DESC;FMTTYPE=text/html: <p>21.-22.11.2024 / Regensburg</p><p><a href=
 "https://www.hsozkult.de/event/id/event-145331?title=legal-unification-thro
 ugh-case-law&recno=1&q=rechtswissenschaft&sort=newestPublished&fq=&total=9"
 >https://www.hsozkult.de/event/id/event-145331?title=legal-unification-thro
 ugh-case-law&recno=1&q=rechtswissenschaft&sort=newestPublished&fq=&total=9<
 /a></p><p>[av_button label='iCal-Export' link='./feed/eo-events' link_targe
 t='' size='small' position='center' label_display='' title_attr='' icon_sel
 ect='yes' icon='ue85b' font='entypo-fontello' color='custom' custom_bg='#b5
 123e' custom_font='#ffffff' av_uid='' id='' custom_class='' admin_preview_b
 g='']</p>
CATEGORIES:Recht interdisziplinär
LOCATION:Inland
GEO:0.000000;0.000000
ORGANIZER;CN="ViFa-Recht":MAILTO:vifa-recht@sbb.spk-berlin.de
URL;VALUE=URI:https://events.intrecht.de/termine/termin/legal-unification-t
 hrough-case-law-tagung/
END:VEVENT
BEGIN:VTIMEZONE
TZID:Europe/Berlin
BEGIN:STANDARD
TZOFFSETFROM:+0200
TZOFFSETTO:+0100
DTSTART:20241027T010000
TZNAME:CET
END:STANDARD
END:VTIMEZONE
END:VCALENDAR
