BEGIN:VCALENDAR
VERSION:2.0
PRODID:-//Events | FID-Recht//NONSGML Events//EN
CALSCALE:GREGORIAN
X-ORIGINAL-URL:https://events.intrecht.de/termine/
X-WR-CALDESC:Events | FID-Recht - Events
BEGIN:VEVENT
UID:20200602T0945Z-1591091115.9737-EO-599-1@172.16.200.141
STATUS:CONFIRMED
DTSTAMP:20260426T052410Z
CREATED:20260310T085823Z
LAST-MODIFIED:20260310T085823Z
DTSTART;VALUE=DATE:20260312
DTEND;VALUE=DATE:20260314
SUMMARY: Legal Tech im Strafprozess – Chancen\, Risiken\, Perspektiven (Erl
 anger Cybercrime Tag)
DESCRIPTION: 12.-13.3.2026 / Online und Erlangen https://www.str1.rw.fau.de
 /forschung/cybercrime-2/erlanger-cybercrime-tag/
X-ALT-DESC;FMTTYPE=text/html: <p>12.-13.3.2026 / Online und Erlangen</p><p>
 <a href="https://www.str1.rw.fau.de/forschung/cybercrime-2/erlanger-cybercr
 ime-tag/">https://www.str1.rw.fau.de/forschung/cybercrime-2/erlanger-cyberc
 rime-tag/</a></p><p>[av_button label='iCal-Export' link='./feed/eo-events' 
 link_target='' size='small' position='center' label_display='' title_attr='
 ' icon_select='yes' icon='ue85b' font='entypo-fontello' color='custom' cust
 om_bg='#b5123e' custom_font='#ffffff' av_uid='' id='' custom_class='' admin
 _preview_bg='']</p>
CATEGORIES:Strafrecht
LOCATION:Hybrid
GEO:0.000000;0.000000
ORGANIZER;CN="ViFa-Recht":MAILTO:vifa-recht@sbb.spk-berlin.de
URL;VALUE=URI:https://events.intrecht.de/termine/termin/legal-tech-im-straf
 prozess-chancen-risiken-perspektiven-erlanger-cybercrime-tag/
END:VEVENT
BEGIN:VTIMEZONE
TZID:Europe/Berlin
BEGIN:STANDARD
TZOFFSETFROM:+0200
TZOFFSETTO:+0100
DTSTART:20251026T010000
TZNAME:CET
END:STANDARD
END:VTIMEZONE
END:VCALENDAR
