BEGIN:VCALENDAR
VERSION:2.0
PRODID:-//Events | FID-Recht//NONSGML Events//EN
CALSCALE:GREGORIAN
X-ORIGINAL-URL:https://events.intrecht.de/termine/
X-WR-CALDESC:Events | FID-Recht - Events
BEGIN:VEVENT
UID:20230109T1509Z-1673276950.0142-EO-7942-1@172.16.200.151
STATUS:CONFIRMED
DTSTAMP:20260421T102728Z
CREATED:20230105T120244Z
LAST-MODIFIED:20230105T120244Z
DTSTART;VALUE=DATE:20230120
DTEND;VALUE=DATE:20230121
SUMMARY: Legal Scholarship in the Age of Data: How Can Legal Scholarship Be
 nefit from Data Science? (Vortrag)
DESCRIPTION: 20.1.2023 / Online https://lts6291.wixsite.com/mplts/event-det
 ails/tilmann-altwicker-legal-scholarship-in-the-age-of-data  
X-ALT-DESC;FMTTYPE=text/html: <p>20.1.2023 / Online</p><p><a href="https://
 lts6291.wixsite.com/mplts/event-details/tilmann-altwicker-legal-scholarship
 -in-the-age-of-data">https://lts6291.wixsite.com/mplts/event-details/tilman
 n-altwicker-legal-scholarship-in-the-age-of-data</a></p><p> </p><p>[av_butt
 on label='iCal-Export' link='./feed/eo-events' link_target='' size='small' 
 position='center' label_display='' title_attr='' icon_select='yes' icon='ue
 85b' font='entypo-fontello' color='custom' custom_bg='#b5123e' custom_font=
 '#ffffff' av_uid='' id='' custom_class='' admin_preview_bg='']</p>
CATEGORIES:Recht interdisziplinär
LOCATION:Online
GEO:0.000000;0.000000
ORGANIZER;CN="ViFa-Recht":MAILTO:vifa-recht@sbb.spk-berlin.de
URL;VALUE=URI:https://events.intrecht.de/termine/termin/legal-scholarship-i
 n-the-age-of-data-how-can-legal-scholarship-benefit-from-data-science-vortr
 ag/
END:VEVENT
BEGIN:VTIMEZONE
TZID:Europe/Berlin
BEGIN:STANDARD
TZOFFSETFROM:+0200
TZOFFSETTO:+0100
DTSTART:20221030T010000
TZNAME:CET
END:STANDARD
END:VTIMEZONE
END:VCALENDAR
