BEGIN:VCALENDAR
VERSION:2.0
PRODID:-//Events | FID-Recht//NONSGML Events//EN
CALSCALE:GREGORIAN
X-ORIGINAL-URL:https://events.intrecht.de/termine/
X-WR-CALDESC:Events | FID-Recht - Events
BEGIN:VEVENT
UID:20210430T1735Z-1619804155.1527-EO-3579-1@172.16.200.141
STATUS:CONFIRMED
DTSTAMP:20260422T113637Z
CREATED:20210427T101616Z
LAST-MODIFIED:20210427T101616Z
DTSTART;VALUE=DATE:20210429
DTEND;VALUE=DATE:20210429
SUMMARY: Legal scholarship at the borders – ius commune and local laws (mit
  John Baker) (Online-Vortrag)
DESCRIPTION: 29.4.2021\, Online https://univ-droit.fr/actualites-de-la-rech
 erche/manifestations/36749-ius-commune-at-borders-borders-of-ius-commune  
X-ALT-DESC;FMTTYPE=text/html: <p>29.4.2021\, Online</p><p><a href="https://
 univ-droit.fr/actualites-de-la-recherche/manifestations/36749-ius-commune-a
 t-borders-borders-of-ius-commune">https://univ-droit.fr/actualites-de-la-re
 cherche/manifestations/36749-ius-commune-at-borders-borders-of-ius-commune<
 /a></p><p> </p><p>[av_button label='iCal-Export' link='./feed/eo-events' li
 nk_target='' size='small' position='center' label_display='' title_attr='' 
 icon_select='yes' icon='ue85b' font='entypo-fontello' color='custom' custom
 _bg='#b5123e' custom_font='#ffffff' av_uid='' id='' custom_class='' admin_p
 review_bg='']</p>
CATEGORIES:Recht interdisziplinär
LOCATION:Online
GEO:0.000000;0.000000
ORGANIZER;CN="ViFa-Recht":MAILTO:vifa-recht@sbb.spk-berlin.de
URL;VALUE=URI:https://events.intrecht.de/termine/termin/legal-scholarship-a
 t-the-borders-ius-commune-and-local-laws-mit-john-baker-online-vortrag/
END:VEVENT
BEGIN:VTIMEZONE
TZID:Europe/Berlin
BEGIN:DAYLIGHT
TZOFFSETFROM:+0100
TZOFFSETTO:+0200
DTSTART:20210328T010000
TZNAME:CEST
END:DAYLIGHT
END:VTIMEZONE
END:VCALENDAR
