BEGIN:VCALENDAR
VERSION:2.0
PRODID:-//Events | FID-Recht//NONSGML Events//EN
CALSCALE:GREGORIAN
X-ORIGINAL-URL:https://events.intrecht.de/termine/
X-WR-CALDESC:Events | FID-Recht - Events
BEGIN:VEVENT
UID:20201112T2147Z-1605217659.3645-EO-2193-1@172.16.200.141
STATUS:CONFIRMED
DTSTAMP:20260421T102835Z
CREATED:20201111T162048Z
LAST-MODIFIED:20201111T170813Z
DTSTART;VALUE=DATE:20201201
DTEND;VALUE=DATE:20201201
SUMMARY: Legal Role­Playing and Storytelling in Early Medieval Francia (GHI
 L Lecture with Alice Rio) (Vortrag)
DESCRIPTION: 1.12.2020\, Online https://www.ghil.ac.uk/seminars_and_lecture
 s.html  
X-ALT-DESC;FMTTYPE=text/html: <p>1.12.2020\, Online</p><p><a href="https://
 www.ghil.ac.uk/seminars_and_lectures.html">https://www.ghil.ac.uk/seminars_
 and_lectures.html</a></p><p> </p><p>[av_button label='iCal-Export' link='./
 feed/eo-events' link_target='' size='small' position='center' label_display
 ='' title_attr='' icon_select='yes' icon='ue85b' font='entypo-fontello' col
 or='custom' custom_bg='#b5123e' custom_font='#ffffff' av_uid='' id='' custo
 m_class='' admin_preview_bg='']</p>
CATEGORIES:Recht interdisziplinär
LOCATION:Online
GEO:0.000000;0.000000
ORGANIZER;CN="ViFa-Recht":MAILTO:vifa-recht@sbb.spk-berlin.de
URL;VALUE=URI:https://events.intrecht.de/termine/termin/legal-roleplaying-a
 nd-storytelling-in-early-medieval-francia-ghil-lecture-with-alice-rio-vortr
 ag/
END:VEVENT
BEGIN:VTIMEZONE
TZID:Europe/Berlin
BEGIN:STANDARD
TZOFFSETFROM:+0200
TZOFFSETTO:+0100
DTSTART:20201025T010000
TZNAME:CET
END:STANDARD
END:VTIMEZONE
END:VCALENDAR
