BEGIN:VCALENDAR
VERSION:2.0
PRODID:-//Events | FID-Recht//NONSGML Events//EN
CALSCALE:GREGORIAN
X-ORIGINAL-URL:https://events.intrecht.de/termine/
X-WR-CALDESC:Events | FID-Recht - Events
BEGIN:VEVENT
UID:20200603T1418Z-1591193923.3362-EO-587-1@172.16.200.141
STATUS:CONFIRMED
DTSTAMP:20260423T003152Z
CREATED:20240905T153541Z
LAST-MODIFIED:20240905T153541Z
DTSTART;VALUE=DATE:20240927
DTEND;VALUE=DATE:20240928
SUMMARY: Legal Research in African Contexts (Hybrid Workshop)
DESCRIPTION: 27.9.2024 / Online und Leipzig https://law.mpg.de/event/legal-
 research-in-african-contexts/
X-ALT-DESC;FMTTYPE=text/html: <p>27.9.2024 / Online und Leipzig</p><p><a hr
 ef="https://law.mpg.de/event/legal-research-in-african-contexts/">https://l
 aw.mpg.de/event/legal-research-in-african-contexts/</a></p><p>[av_button la
 bel='iCal-Export' link='./feed/eo-events' link_target='' size='small' posit
 ion='center' label_display='' title_attr='' icon_select='yes' icon='ue85b' 
 font='entypo-fontello' color='custom' custom_bg='#b5123e' custom_font='#fff
 fff' av_uid='' id='' custom_class='' admin_preview_bg='']</p>
CATEGORIES:Recht interdisziplinär
LOCATION:Hybrid
GEO:0.000000;0.000000
ORGANIZER;CN="ViFa-Recht":MAILTO:vifa-recht@sbb.spk-berlin.de
URL;VALUE=URI:https://events.intrecht.de/termine/termin/legal-research-in-a
 frican-contexts-hybrid-workshop/
END:VEVENT
BEGIN:VTIMEZONE
TZID:Europe/Berlin
BEGIN:DAYLIGHT
TZOFFSETFROM:+0100
TZOFFSETTO:+0200
DTSTART:20240331T010000
TZNAME:CEST
END:DAYLIGHT
END:VTIMEZONE
END:VCALENDAR
