BEGIN:VCALENDAR
VERSION:2.0
PRODID:-//Events | FID-Recht//NONSGML Events//EN
CALSCALE:GREGORIAN
X-ORIGINAL-URL:https://events.intrecht.de/termine/
X-WR-CALDESC:Events | FID-Recht - Events
BEGIN:VEVENT
UID:20200603T1418Z-1591193923.3362-EO-587-1@172.16.200.141
STATUS:CONFIRMED
DTSTAMP:20260425T221825Z
CREATED:20231025T093308Z
LAST-MODIFIED:20231025T093308Z
DTSTART;VALUE=DATE:20231031
DTEND;VALUE=DATE:20231101
SUMMARY: Legal Reflections on “Water is Life\, Water is Food. Leave no one 
 Behind” (2023 FAO Law Lecture)
DESCRIPTION: 31.10.2023 / Online https://voelkerrechtsblog.org/wp-content/u
 ploads/2023/10/FAO-Law-Lecture-2023.pdf
X-ALT-DESC;FMTTYPE=text/html: <p>31.10.2023 / Online</p><p><a href="https:/
 /voelkerrechtsblog.org/wp-content/uploads/2023/10/FAO-Law-Lecture-2023.pdf"
 >https://voelkerrechtsblog.org/wp-content/uploads/2023/10/FAO-Law-Lecture-2
 023.pdf</a></p><p>[av_button label='iCal-Export' link='./feed/eo-events' li
 nk_target='' size='small' position='center' label_display='' title_attr='' 
 icon_select='yes' icon='ue85b' font='entypo-fontello' color='custom' custom
 _bg='#b5123e' custom_font='#ffffff' av_uid='' id='' custom_class='' admin_p
 review_bg='']</p>
CATEGORIES:Europäisches / Internationales Recht
LOCATION:Online
GEO:0.000000;0.000000
ORGANIZER;CN="ViFa-Recht":MAILTO:vifa-recht@sbb.spk-berlin.de
URL;VALUE=URI:https://events.intrecht.de/termine/termin/legal-reflections-o
 n-water-is-life-water-is-food-leave-no-one-behind-2023-fao-law-lecture/
END:VEVENT
BEGIN:VTIMEZONE
TZID:Europe/Berlin
BEGIN:STANDARD
TZOFFSETFROM:+0200
TZOFFSETTO:+0100
DTSTART:20231029T010000
TZNAME:CET
END:STANDARD
END:VTIMEZONE
END:VCALENDAR
