BEGIN:VCALENDAR
VERSION:2.0
PRODID:-//Events | FID-Recht//NONSGML Events//EN
CALSCALE:GREGORIAN
X-ORIGINAL-URL:https://events.intrecht.de/termine/
X-WR-CALDESC:Events | FID-Recht - Events
BEGIN:VEVENT
UID:20200602T0945Z-1591091115.9737-EO-599-1@172.16.200.141
STATUS:CONFIRMED
DTSTAMP:20260423T034644Z
CREATED:20251120T134040Z
LAST-MODIFIED:20251120T134232Z
DTSTART;VALUE=DATE:20251204
DTEND;VALUE=DATE:20251205
SUMMARY: Legal Realist (Dis)Dontinuities in U.S. Sociolegal Thought (Werkst
 attgespräche – Recht und Gesellschaft)
DESCRIPTION: 4.12.2025 / Online https://rechtssoziologie.info/2025/07/23/we
 rkstattgespraeche-recht-und-gesellschaft-3/
X-ALT-DESC;FMTTYPE=text/html: <p>4.12.2025 / Online</p><p><a href="https://
 rechtssoziologie.info/2025/07/23/werkstattgespraeche-recht-und-gesellschaft
 -3/">https://rechtssoziologie.info/2025/07/23/werkstattgespraeche-recht-und
 -gesellschaft-3/</a></p><p>[av_button label='iCal-Export' link='./feed/eo-e
 vents' link_target='' size='small' position='center' label_display='' title
 _attr='' icon_select='yes' icon='ue85b' font='entypo-fontello' color='custo
 m' custom_bg='#b5123e' custom_font='#ffffff' av_uid='' id='' custom_class='
 ' admin_preview_bg='']</p>
CATEGORIES:Recht interdisziplinär
LOCATION:Online
GEO:0.000000;0.000000
ORGANIZER;CN="ViFa-Recht":MAILTO:vifa-recht@sbb.spk-berlin.de
URL;VALUE=URI:https://events.intrecht.de/termine/termin/legal-realist-disdo
 ntinuities-in-u-s-sociolegal-thought-werkstattgespraeche-recht-und-gesellsc
 haft/
END:VEVENT
BEGIN:VTIMEZONE
TZID:Europe/Berlin
BEGIN:STANDARD
TZOFFSETFROM:+0200
TZOFFSETTO:+0100
DTSTART:20251026T010000
TZNAME:CET
END:STANDARD
END:VTIMEZONE
END:VCALENDAR
