BEGIN:VCALENDAR
VERSION:2.0
PRODID:-//Events | FID-Recht//NONSGML Events//EN
CALSCALE:GREGORIAN
X-ORIGINAL-URL:https://events.intrecht.de/termine/
X-WR-CALDESC:Events | FID-Recht - Events
BEGIN:VEVENT
UID:20200617T1213Z-1592396027.4902-EO-973-1@172.16.200.141
STATUS:CONFIRMED
DTSTAMP:20260421T152038Z
CREATED:20200605T111053Z
LAST-MODIFIED:20200605T111053Z
DTSTART;VALUE=DATE:20210630
DTEND;VALUE=DATE:20210703
SUMMARY: Legal Professions and Methods – 6th Biennal Conference of the Euro
 pean Society for Comparative Legal History (ESCLH) (Konferenz)
DESCRIPTION: 30.6.-2.7.2021\, Lissabon http://esclh.blogspot.com/2019/06/ca
 ll-for-papers-professions-and-methods.html http://esclh.blogspot.com/2020/0
 3/conference-and-postponed-6th-esclh.html https://www.esclh.com/
X-ALT-DESC;FMTTYPE=text/html: <p>30.6.-2.7.2021\, Lissabon</p><p><a href="h
 ttp://esclh.blogspot.com/2019/06/call-for-papers-professions-and-methods.ht
 ml">http://esclh.blogspot.com/2019/06/call-for-papers-professions-and-metho
 ds.html</a></p><p><a href="http://esclh.blogspot.com/2020/03/conference-and
 -postponed-6th-esclh.html">http://esclh.blogspot.com/2020/03/conference-and
 -postponed-6th-esclh.html</a></p><p><a href="https://www.esclh.com/">https:
 //www.esclh.com/</a></p><p>[av_button label='iCal-Export' link='./feed/eo-e
 vents' link_target='' size='small' position='center' label_display='' title
 _attr='' icon_select='yes' icon='ue85b' font='entypo-fontello' color='custo
 m' custom_bg='#b5123e' custom_font='#ffffff' av_uid='' id='' custom_class='
 ' admin_preview_bg='']</p>
CATEGORIES:Recht interdisziplinär
LOCATION:Ausland
GEO:0.000000;0.000000
ORGANIZER;CN="ViFa-Recht":MAILTO:vifa-recht@sbb.spk-berlin.de
URL;VALUE=URI:https://events.intrecht.de/termine/termin/legal-professions-a
 nd-methods-6th-biennal-conference-of-the-european-society-for-comparative-l
 egal-history-esclh-konferenz/
END:VEVENT
BEGIN:VTIMEZONE
TZID:Europe/Berlin
BEGIN:DAYLIGHT
TZOFFSETFROM:+0100
TZOFFSETTO:+0200
DTSTART:20210328T010000
TZNAME:CEST
END:DAYLIGHT
END:VTIMEZONE
END:VCALENDAR
