BEGIN:VCALENDAR
VERSION:2.0
PRODID:-//Events | FID-Recht//NONSGML Events//EN
CALSCALE:GREGORIAN
X-ORIGINAL-URL:https://events.intrecht.de/termine/
X-WR-CALDESC:Events | FID-Recht - Events
BEGIN:VEVENT
UID:20200603T1418Z-1591193923.3362-EO-587-1@172.16.200.141
STATUS:CONFIRMED
DTSTAMP:20260422T230425Z
CREATED:20241127T085020Z
LAST-MODIFIED:20241127T085020Z
DTSTART;VALUE=DATE:20250707
DTEND;VALUE=DATE:20250709
SUMMARY: Legal perspectives on the development and enactment of tax policy 
 (Tax Policy Conference)
DESCRIPTION: 7.-8.7.2025 / Cambridge (Einreichungsfrist: 15.1.2025) https:/
 /www.law.cam.ac.uk/press/news/2024/11/call-papers-tax-policy-conference-jul
 y-2025
X-ALT-DESC;FMTTYPE=text/html: <p>7.-8.7.2025 / Cambridge <strong>(Einreichu
 ngsfrist: 15.1.2025)</strong></p><p><a href="https://www.law.cam.ac.uk/pres
 s/news/2024/11/call-papers-tax-policy-conference-july-2025">https://www.law
 .cam.ac.uk/press/news/2024/11/call-papers-tax-policy-conference-july-2025</
 a></p><p>[av_button label='iCal-Export' link='./feed/eo-events' link_target
 ='' size='small' position='center' label_display='' title_attr='' icon_sele
 ct='yes' icon='ue85b' font='entypo-fontello' color='custom' custom_bg='#b51
 23e' custom_font='#ffffff' av_uid='' id='' custom_class='' admin_preview_bg
 ='']</p>
CATEGORIES:Öffentliches Recht
LOCATION:Ausland
GEO:0.000000;0.000000
ORGANIZER;CN="ViFa-Recht":MAILTO:vifa-recht@sbb.spk-berlin.de
URL;VALUE=URI:https://events.intrecht.de/termine/termin/legal-perspectives-
 on-the-development-and-enactment-of-tax-policy-tax-policy-conference/
END:VEVENT
BEGIN:VTIMEZONE
TZID:Europe/Berlin
BEGIN:DAYLIGHT
TZOFFSETFROM:+0100
TZOFFSETTO:+0200
DTSTART:20250330T010000
TZNAME:CEST
END:DAYLIGHT
END:VTIMEZONE
END:VCALENDAR
