BEGIN:VCALENDAR
VERSION:2.0
PRODID:-//Events | FID-Recht//NONSGML Events//EN
CALSCALE:GREGORIAN
X-ORIGINAL-URL:https://events.intrecht.de/termine/
X-WR-CALDESC:Events | FID-Recht - Events
BEGIN:VEVENT
UID:20220501T1810Z-1651428659.963-EO-6795-1@172.16.200.141
STATUS:CONFIRMED
DTSTAMP:20260426T061033Z
CREATED:20220429T113631Z
LAST-MODIFIED:20220429T113651Z
DTSTART;VALUE=DATE:20221207
DTEND;VALUE=DATE:20221210
SUMMARY: Legal orders under pressure – Non-Western experiences of legal tra
 nsformations in the 19th and early 20th centuries (Online-Tagung) (Calls)
DESCRIPTION: 7.-9.12.2022\, Online (Frist für Einreichungen: 25.5.2022) CfP
  zum Symposium „Legal orders under pressure: Non-Western experiences of leg
 al transformations in the 19th and early 20th centuries“ | Max Planck Insti
 tute for Legal History and Legal Theory (mpg.de)  
X-ALT-DESC;FMTTYPE=text/html: <p>7.-9.12.2022\, Online (Frist für Einreichu
 ngen: 25.5.2022)</p><p><a href="https://www.lhlt.mpg.de/2849117/notice-22-0
 4-27-Legal-orders-under-pressure">CfP zum Symposium "Legal orders under pre
 ssure: Non-Western experiences of legal transformations in the 19th and ear
 ly 20th centuries" | Max Planck Institute for Legal History and Legal Theor
 y (mpg.de)</a></p><p> </p><p>[av_button label='iCal-Export' link='./feed/eo
 -events' link_target='' size='small' position='center' label_display='' tit
 le_attr='' icon_select='yes' icon='ue85b' font='entypo-fontello' color='cus
 tom' custom_bg='#b5123e' custom_font='#ffffff' av_uid='' id='' custom_class
 ='' admin_preview_bg='']</p>
CATEGORIES:Recht interdisziplinär
LOCATION:Online
GEO:0.000000;0.000000
ORGANIZER;CN="ViFa-Recht":MAILTO:vifa-recht@sbb.spk-berlin.de
URL;VALUE=URI:https://events.intrecht.de/termine/termin/legal-orders-under-
 pressure-non-western-experiences-of-legal-transformations-in-the-19th-and-e
 arly-20th-centuries-online-tagung/
END:VEVENT
BEGIN:VTIMEZONE
TZID:Europe/Berlin
BEGIN:STANDARD
TZOFFSETFROM:+0200
TZOFFSETTO:+0100
DTSTART:20221030T010000
TZNAME:CET
END:STANDARD
END:VTIMEZONE
END:VCALENDAR
