BEGIN:VCALENDAR
VERSION:2.0
PRODID:-//Events | FID-Recht//NONSGML Events//EN
CALSCALE:GREGORIAN
X-ORIGINAL-URL:https://events.intrecht.de/termine/
X-WR-CALDESC:Events | FID-Recht - Events
BEGIN:VEVENT
UID:20230418T0120Z-1681780832.9541-EO-12853-1@172.16.200.151
STATUS:CONFIRMED
DTSTAMP:20260425T132325Z
CREATED:20230221T094339Z
LAST-MODIFIED:20230221T094339Z
DTSTART;VALUE=DATE:20230316
DTEND;VALUE=DATE:20230318
SUMMARY: Legal Operations (Hybrides Symposium)
DESCRIPTION: 16.-17.3.2023 / Online und Frankfurt am Main https://www.frank
 furt-university.de/de/hochschule/fachbereich-3-wirtschaft-und-recht/veranst
 altungen-anmeldungen/rellate-symposium-legal-operations/  
X-ALT-DESC;FMTTYPE=text/html: <p>16.-17.3.2023 / Online und Frankfurt am Ma
 in</p><p><a href="https://www.frankfurt-university.de/de/hochschule/fachber
 eich-3-wirtschaft-und-recht/veranstaltungen-anmeldungen/rellate-symposium-l
 egal-operations/">https://www.frankfurt-university.de/de/hochschule/fachber
 eich-3-wirtschaft-und-recht/veranstaltungen-anmeldungen/rellate-symposium-l
 egal-operations/</a></p><p> </p><p>[av_button label='iCal-Export' link='./f
 eed/eo-events' link_target='' size='small' position='center' label_display=
 '' title_attr='' icon_select='yes' icon='ue85b' font='entypo-fontello' colo
 r='custom' custom_bg='#b5123e' custom_font='#ffffff' av_uid='' id='' custom
 _class='' admin_preview_bg='']</p>
CATEGORIES:Recht interdisziplinär
LOCATION:Online
GEO:0.000000;0.000000
ORGANIZER;CN="ViFa-Recht":MAILTO:vifa-recht@sbb.spk-berlin.de
URL;VALUE=URI:https://events.intrecht.de/termine/termin/legal-operations-hy
 brides-symposium/
END:VEVENT
BEGIN:VTIMEZONE
TZID:Europe/Berlin
BEGIN:STANDARD
TZOFFSETFROM:+0200
TZOFFSETTO:+0100
DTSTART:20221030T010000
TZNAME:CET
END:STANDARD
END:VTIMEZONE
END:VCALENDAR
