BEGIN:VCALENDAR
VERSION:2.0
PRODID:-//Events | FID-Recht//NONSGML Events//EN
CALSCALE:GREGORIAN
X-ORIGINAL-URL:https://events.intrecht.de/termine/
X-WR-CALDESC:Events | FID-Recht - Events
BEGIN:VEVENT
UID:20200603T1418Z-1591193923.3362-EO-587-1@172.16.200.141
STATUS:CONFIRMED
DTSTAMP:20260422T140453Z
CREATED:20240216T083455Z
LAST-MODIFIED:20240216T083455Z
DTSTART;VALUE=DATE:20240311
DTEND;VALUE=DATE:20240312
SUMMARY: Legal-Literary Imagining: An Early Modern Workshop
DESCRIPTION: 11.3.2024 / Oxford (Anmeldefrist: 28.2.2024) https://earlymode
 rn.web.ox.ac.uk/legal-literary-imagining
X-ALT-DESC;FMTTYPE=text/html: <p>11.3.2024 / Oxford <strong>(Anmeldefrist: 
 28.2.2024)</strong></p><p><a href="https://earlymodern.web.ox.ac.uk/legal-l
 iterary-imagining">https://earlymodern.web.ox.ac.uk/legal-literary-imaginin
 g</a></p><p>[av_button label='iCal-Export' link='./feed/eo-events' link_tar
 get='' size='small' position='center' label_display='' title_attr='' icon_s
 elect='yes' icon='ue85b' font='entypo-fontello' color='custom' custom_bg='#
 b5123e' custom_font='#ffffff' av_uid='' id='' custom_class='' admin_preview
 _bg='']</p>
CATEGORIES:Recht interdisziplinär
LOCATION:Ausland
GEO:0.000000;0.000000
ORGANIZER;CN="ViFa-Recht":MAILTO:vifa-recht@sbb.spk-berlin.de
URL;VALUE=URI:https://events.intrecht.de/termine/termin/legal-literary-imag
 ining-an-early-modern-workshop/
END:VEVENT
BEGIN:VTIMEZONE
TZID:Europe/Berlin
BEGIN:STANDARD
TZOFFSETFROM:+0200
TZOFFSETTO:+0100
DTSTART:20231029T010000
TZNAME:CET
END:STANDARD
END:VTIMEZONE
END:VCALENDAR
