BEGIN:VCALENDAR
VERSION:2.0
PRODID:-//Events | FID-Recht//NONSGML Events//EN
CALSCALE:GREGORIAN
X-ORIGINAL-URL:https://events.intrecht.de/termine/
X-WR-CALDESC:Events | FID-Recht - Events
BEGIN:VEVENT
UID:20200603T1418Z-1591193923.3362-EO-587-1@172.16.200.141
STATUS:CONFIRMED
DTSTAMP:20260423T003259Z
CREATED:20241111T135040Z
LAST-MODIFIED:20241111T135040Z
DTSTART;VALUE=DATE:20250120
DTEND;VALUE=DATE:20250122
SUMMARY: Legal Infrastructures and Democracy: Deciphering Contemporary Batt
 les for the Control of Law (Workshop)
DESCRIPTION: 20.-21.1.2025 / Frankfurt am Main https://law.mpg.de/event/leg
 al-infrastructures-and-democracy/
X-ALT-DESC;FMTTYPE=text/html: <p>20.-21.1.2025 / Frankfurt am Main</p><p><a
  href="https://law.mpg.de/event/legal-infrastructures-and-democracy/">https
 ://law.mpg.de/event/legal-infrastructures-and-democracy/</a></p><p>[av_butt
 on label='iCal-Export' link='./feed/eo-events' link_target='' size='small' 
 position='center' label_display='' title_attr='' icon_select='yes' icon='ue
 85b' font='entypo-fontello' color='custom' custom_bg='#b5123e' custom_font=
 '#ffffff' av_uid='' id='' custom_class='' admin_preview_bg='']</p>
CATEGORIES:Recht interdisziplinär
LOCATION:Inland
GEO:0.000000;0.000000
ORGANIZER;CN="ViFa-Recht":MAILTO:vifa-recht@sbb.spk-berlin.de
URL;VALUE=URI:https://events.intrecht.de/termine/termin/legal-infrastructur
 es-and-democracy-deciphering-contemporary-battles-for-the-control-of-law-wo
 rkshop/
END:VEVENT
BEGIN:VTIMEZONE
TZID:Europe/Berlin
BEGIN:STANDARD
TZOFFSETFROM:+0200
TZOFFSETTO:+0100
DTSTART:20241027T010000
TZNAME:CET
END:STANDARD
END:VTIMEZONE
END:VCALENDAR
