BEGIN:VCALENDAR
VERSION:2.0
PRODID:-//Events | FID-Recht//NONSGML Events//EN
CALSCALE:GREGORIAN
X-ORIGINAL-URL:https://events.intrecht.de/termine/
X-WR-CALDESC:Events | FID-Recht - Events
BEGIN:VEVENT
UID:20200603T1418Z-1591193923.3362-EO-587-1@172.16.200.141
STATUS:CONFIRMED
DTSTAMP:20260425T220108Z
CREATED:20230615T141029Z
LAST-MODIFIED:20230615T141029Z
DTSTART;VALUE=DATE:20231206
DTEND;VALUE=DATE:20231209
SUMMARY: Legal Discoures\, Gender and History (International Colloquium)
DESCRIPTION: 6.-8.12.2023 / Douai (Frist für Einreichungen: 16.7.2023) http
 ://esclh.blogspot.com/2023/06/call-for-papers-legal-discoures-gender.html
X-ALT-DESC;FMTTYPE=text/html: <p>6.-8.12.2023 / Douai <strong>(Frist für Ei
 nreichungen: 16.7.2023)</strong></p><p><a href="http://esclh.blogspot.com/2
 023/06/call-for-papers-legal-discoures-gender.html">http://esclh.blogspot.c
 om/2023/06/call-for-papers-legal-discoures-gender.html</a></p><p>[av_button
  label='iCal-Export' link='./feed/eo-events' link_target='' size='small' po
 sition='center' label_display='' title_attr='' icon_select='yes' icon='ue85
 b' font='entypo-fontello' color='custom' custom_bg='#b5123e' custom_font='#
 ffffff' av_uid='' id='' custom_class='' admin_preview_bg='']</p>
CATEGORIES:Recht interdisziplinär
LOCATION:Ausland
GEO:0.000000;0.000000
ORGANIZER;CN="ViFa-Recht":MAILTO:vifa-recht@sbb.spk-berlin.de
URL;VALUE=URI:https://events.intrecht.de/termine/termin/legal-discoures-gen
 der-and-history-international-colloquium/
END:VEVENT
BEGIN:VTIMEZONE
TZID:Europe/Berlin
BEGIN:STANDARD
TZOFFSETFROM:+0200
TZOFFSETTO:+0100
DTSTART:20231029T010000
TZNAME:CET
END:STANDARD
END:VTIMEZONE
END:VCALENDAR
