BEGIN:VCALENDAR
VERSION:2.0
PRODID:-//Events | FID-Recht//NONSGML Events//EN
CALSCALE:GREGORIAN
X-ORIGINAL-URL:https://events.intrecht.de/termine/
X-WR-CALDESC:Events | FID-Recht - Events
BEGIN:VEVENT
UID:20200603T1418Z-1591193923.3362-EO-587-1@172.16.200.141
STATUS:CONFIRMED
DTSTAMP:20260422T154459Z
CREATED:20240328T144528Z
LAST-MODIFIED:20240417T090209Z
DTSTART;VALUE=DATE:20240918
DTEND;VALUE=DATE:20240920
SUMMARY: Legal Concepts in Transition (Workshop / Inaugural Transnational J
 unior Faculty Forum)
DESCRIPTION: 18.-19.9.2024 / Berlin (Einreichungsfrist: 1.5.2024) https://l
 aw.mpg.de/event/transnational-junior-faculty-forum/
X-ALT-DESC;FMTTYPE=text/html: <p>18.-19.9.2024 / Berlin <strong>(Einreichun
 gsfrist: 1.5.2024)</strong></p><p><a href="https://law.mpg.de/event/transna
 tional-junior-faculty-forum/">https://law.mpg.de/event/transnational-junior
 -faculty-forum/</a></p><p>[av_button label='iCal-Export' link='./feed/eo-ev
 ents' link_target='' size='small' position='center' label_display='' title_
 attr='' icon_select='yes' icon='ue85b' font='entypo-fontello' color='custom
 ' custom_bg='#b5123e' custom_font='#ffffff' av_uid='' id='' custom_class=''
  admin_preview_bg='']</p>
CATEGORIES:Recht interdisziplinär
LOCATION:Inland
GEO:0.000000;0.000000
ORGANIZER;CN="ViFa-Recht":MAILTO:vifa-recht@sbb.spk-berlin.de
URL;VALUE=URI:https://events.intrecht.de/termine/termin/legal-concepts-in-t
 ransition-inaugural-transnational-junior-faculty-forum-german-law-journal/
END:VEVENT
BEGIN:VTIMEZONE
TZID:Europe/Berlin
BEGIN:DAYLIGHT
TZOFFSETFROM:+0100
TZOFFSETTO:+0200
DTSTART:20240331T010000
TZNAME:CEST
END:DAYLIGHT
END:VTIMEZONE
END:VCALENDAR
