BEGIN:VCALENDAR
VERSION:2.0
PRODID:-//Events | FID-Recht//NONSGML Events//EN
CALSCALE:GREGORIAN
X-ORIGINAL-URL:https://events.intrecht.de/termine/
X-WR-CALDESC:Events | FID-Recht - Events
BEGIN:VEVENT
UID:20200603T1418Z-1591193923.3362-EO-587-1@172.16.200.141
STATUS:CONFIRMED
DTSTAMP:20260426T031234Z
CREATED:20230614T120751Z
LAST-MODIFIED:20230614T120751Z
DTSTART;VALUE=DATE:20231012
DTEND;VALUE=DATE:20231013
SUMMARY: Legal Challenges of the Globalised World – How should the law prot
 ect and realise rights? (Online Zoom Conference)
DESCRIPTION: 12.10.2023 / Online (Frist für Einreichungen: 24.7.2023) https
 ://www.legalscholars.ac.uk/event/conference-legal-challenges-of-the-globali
 sed-world-how-should-the-law-protect-and-realise-rights/
X-ALT-DESC;FMTTYPE=text/html: <p>12.10.2023 / Online <strong>(Frist für Ein
 reichungen: 24.7.2023)</strong></p><p><a href="https://www.legalscholars.ac
 .uk/event/conference-legal-challenges-of-the-globalised-world-how-should-th
 e-law-protect-and-realise-rights/">https://www.legalscholars.ac.uk/event/co
 nference-legal-challenges-of-the-globalised-world-how-should-the-law-protec
 t-and-realise-rights/</a></p><p>[av_button label='iCal-Export' link='./feed
 /eo-events' link_target='' size='small' position='center' label_display='' 
 title_attr='' icon_select='yes' icon='ue85b' font='entypo-fontello' color='
 custom' custom_bg='#b5123e' custom_font='#ffffff' av_uid='' id='' custom_cl
 ass='' admin_preview_bg='']</p>
CATEGORIES:Recht interdisziplinär
LOCATION:Online
GEO:0.000000;0.000000
ORGANIZER;CN="ViFa-Recht":MAILTO:vifa-recht@sbb.spk-berlin.de
URL;VALUE=URI:https://events.intrecht.de/termine/termin/legal-challenges-of
 -the-globalised-world-how-should-the-law-protect-and-realise-rights-online-
 zoom-conference/
END:VEVENT
BEGIN:VTIMEZONE
TZID:Europe/Berlin
BEGIN:DAYLIGHT
TZOFFSETFROM:+0100
TZOFFSETTO:+0200
DTSTART:20230326T010000
TZNAME:CEST
END:DAYLIGHT
END:VTIMEZONE
END:VCALENDAR
