BEGIN:VCALENDAR
VERSION:2.0
PRODID:-//Events | FID-Recht//NONSGML Events//EN
CALSCALE:GREGORIAN
X-ORIGINAL-URL:https://events.intrecht.de/termine/
X-WR-CALDESC:Events | FID-Recht - Events
BEGIN:VEVENT
UID:20200603T1418Z-1591193923.3362-EO-587-1@172.16.200.141
STATUS:CONFIRMED
DTSTAMP:20260422T230420Z
CREATED:20231220T104738Z
LAST-MODIFIED:20231220T104738Z
DTSTART;VALUE=DATE:20240410
DTEND;VALUE=DATE:20240411
SUMMARY: Legal Aspects of Reform to the 1998 Belfast/Good Friday Agreement 
 (Hybrid Workshop)
DESCRIPTION: 10.4.2024 / Online und Liverpool (Einreichungsfrist: 28.1.2024
 ) https://www.liverpool.ac.uk/law/research/liverpool-public-law-unit/events
 /Legal-Aspects-of-Reform/
X-ALT-DESC;FMTTYPE=text/html: <p>10.4.2024 / Online und Liverpool <strong>(
 Einreichungsfrist: 28.1.2024)</strong></p><p><a href="https://www.liverpool
 .ac.uk/law/research/liverpool-public-law-unit/events/Legal-Aspects-of-Refor
 m/">https://www.liverpool.ac.uk/law/research/liverpool-public-law-unit/even
 ts/Legal-Aspects-of-Reform/</a></p><p>[av_button label='iCal-Export' link='
 ./feed/eo-events' link_target='' size='small' position='center' label_displ
 ay='' title_attr='' icon_select='yes' icon='ue85b' font='entypo-fontello' c
 olor='custom' custom_bg='#b5123e' custom_font='#ffffff' av_uid='' id='' cus
 tom_class='' admin_preview_bg='']</p>
CATEGORIES:Recht interdisziplinär
LOCATION:Online
GEO:0.000000;0.000000
ORGANIZER;CN="ViFa-Recht":MAILTO:vifa-recht@sbb.spk-berlin.de
URL;VALUE=URI:https://events.intrecht.de/termine/termin/legal-aspects-of-re
 form-to-the-1998-belfast-good-friday-agreement-hybrid-workshop/
END:VEVENT
BEGIN:VTIMEZONE
TZID:Europe/Berlin
BEGIN:DAYLIGHT
TZOFFSETFROM:+0100
TZOFFSETTO:+0200
DTSTART:20240331T010000
TZNAME:CEST
END:DAYLIGHT
END:VTIMEZONE
END:VCALENDAR
