BEGIN:VCALENDAR
VERSION:2.0
PRODID:-//Events | FID-Recht//NONSGML Events//EN
CALSCALE:GREGORIAN
X-ORIGINAL-URL:https://events.intrecht.de/termine/
X-WR-CALDESC:Events | FID-Recht - Events
BEGIN:VEVENT
UID:20220329T0546Z-1648532812.3537-EO-4778-1@172.16.200.141
STATUS:CONFIRMED
DTSTAMP:20260422T000850Z
CREATED:20220328T092418Z
LAST-MODIFIED:20220328T092418Z
DTSTART;VALUE=DATE:20220421
DTEND;VALUE=DATE:20220424
SUMMARY: Legacies of Patriation Conference (Online-Tagung)
DESCRIPTION: 21.-23.4.2022\, Online Legacies of Patriation Conference (soci
 o.events)  
X-ALT-DESC;FMTTYPE=text/html: <p>21.-23.4.2022\, Online</p><p><a href="http
 s://registration.socio.events/e/legaciesofpatriation">Legacies of Patriatio
 n Conference (socio.events)</a></p><p> </p><p>[av_button label='iCal-Export
 ' link='./feed/eo-events' link_target='' size='small' position='center' lab
 el_display='' title_attr='' icon_select='yes' icon='ue85b' font='entypo-fon
 tello' color='custom' custom_bg='#b5123e' custom_font='#ffffff' av_uid='' i
 d='' custom_class='' admin_preview_bg='']</p>
CATEGORIES:Öffentliches Recht
LOCATION:Online
GEO:0.000000;0.000000
ORGANIZER;CN="ViFa-Recht":MAILTO:vifa-recht@sbb.spk-berlin.de
URL;VALUE=URI:https://events.intrecht.de/termine/termin/legacies-of-patriat
 ion-conference-online-tagung/
END:VEVENT
BEGIN:VTIMEZONE
TZID:Europe/Berlin
BEGIN:DAYLIGHT
TZOFFSETFROM:+0100
TZOFFSETTO:+0200
DTSTART:20220327T010000
TZNAME:CEST
END:DAYLIGHT
END:VTIMEZONE
END:VCALENDAR
