BEGIN:VCALENDAR
VERSION:2.0
PRODID:-//Events | FID-Recht//NONSGML Events//EN
CALSCALE:GREGORIAN
X-ORIGINAL-URL:https://events.intrecht.de/termine/
X-WR-CALDESC:Events | FID-Recht - Events
BEGIN:VEVENT
UID:20200603T1418Z-1591193923.3362-EO-587-1@172.16.200.141
STATUS:CONFIRMED
DTSTAMP:20260422T141443Z
CREATED:20240111T135728Z
LAST-MODIFIED:20240111T135728Z
DTSTART;VALUE=DATE:20240626
DTEND;VALUE=DATE:20240628
SUMMARY: Law\, Regulation and Technology: Healthy\, Safe\, and Sustainable 
 Smart Cities (Conference)
DESCRIPTION: 26.-27.6.2024 / Rotterdam (Einreichungsfrist: 25.3.2024) https
 ://www.eur.nl/en/esl/events/conference-law-regulation-and-technology-health
 y-safe-and-sustainable-smart-cities-2024-06-26
X-ALT-DESC;FMTTYPE=text/html: <p>26.-27.6.2024 / Rotterdam <strong>(Einreic
 hungsfrist: 25.3.2024)</strong></p><p><a href="https://www.eur.nl/en/esl/ev
 ents/conference-law-regulation-and-technology-healthy-safe-and-sustainable-
 smart-cities-2024-06-26">https://www.eur.nl/en/esl/events/conference-law-re
 gulation-and-technology-healthy-safe-and-sustainable-smart-cities-2024-06-2
 6</a></p><p>[av_button label='iCal-Export' link='./feed/eo-events' link_tar
 get='' size='small' position='center' label_display='' title_attr='' icon_s
 elect='yes' icon='ue85b' font='entypo-fontello' color='custom' custom_bg='#
 b5123e' custom_font='#ffffff' av_uid='' id='' custom_class='' admin_preview
 _bg='']</p>
CATEGORIES:Recht interdisziplinär
LOCATION:Ausland
GEO:0.000000;0.000000
ORGANIZER;CN="ViFa-Recht":MAILTO:vifa-recht@sbb.spk-berlin.de
URL;VALUE=URI:https://events.intrecht.de/termine/termin/law-regulation-and-
 technology-healthy-safe-and-sustainable-smart-cities-conference/
END:VEVENT
BEGIN:VTIMEZONE
TZID:Europe/Berlin
BEGIN:DAYLIGHT
TZOFFSETFROM:+0100
TZOFFSETTO:+0200
DTSTART:20240331T010000
TZNAME:CEST
END:DAYLIGHT
END:VTIMEZONE
END:VCALENDAR
