BEGIN:VCALENDAR
VERSION:2.0
PRODID:-//Events | FID-Recht//NONSGML Events//EN
CALSCALE:GREGORIAN
X-ORIGINAL-URL:https://events.intrecht.de/termine/
X-WR-CALDESC:Events | FID-Recht - Events
BEGIN:VEVENT
UID:20200603T1418Z-1591193923.3362-EO-587-1@172.16.200.141
STATUS:CONFIRMED
DTSTAMP:20260423T003935Z
CREATED:20240613T092838Z
LAST-MODIFIED:20240613T092838Z
DTSTART;VALUE=DATE:20240628
DTEND;VALUE=DATE:20240630
SUMMARY: Law & Political Economy in Germany (Conference)
DESCRIPTION: 28.-29.6.2024 / Berlin https://www.rewi.hu-berlin.de/de/lf/oe/
 lsi/law-political-economy-germany-27-28-juni
X-ALT-DESC;FMTTYPE=text/html: <p>28.-29.6.2024 / Berlin</p><p><a href="http
 s://www.rewi.hu-berlin.de/de/lf/oe/lsi/law-political-economy-germany-27-28-
 juni">https://www.rewi.hu-berlin.de/de/lf/oe/lsi/law-political-economy-germ
 any-27-28-juni</a></p><p>[av_button label='iCal-Export' link='./feed/eo-eve
 nts' link_target='' size='small' position='center' label_display='' title_a
 ttr='' icon_select='yes' icon='ue85b' font='entypo-fontello' color='custom'
  custom_bg='#b5123e' custom_font='#ffffff' av_uid='' id='' custom_class='' 
 admin_preview_bg='']</p>
CATEGORIES:Recht interdisziplinär
LOCATION:Inland
GEO:0.000000;0.000000
ORGANIZER;CN="ViFa-Recht":MAILTO:vifa-recht@sbb.spk-berlin.de
URL;VALUE=URI:https://events.intrecht.de/termine/termin/law-political-econo
 my-in-germany-conference/
END:VEVENT
BEGIN:VTIMEZONE
TZID:Europe/Berlin
BEGIN:DAYLIGHT
TZOFFSETFROM:+0100
TZOFFSETTO:+0200
DTSTART:20240331T010000
TZNAME:CEST
END:DAYLIGHT
END:VTIMEZONE
END:VCALENDAR
