BEGIN:VCALENDAR
VERSION:2.0
PRODID:-//Events | FID-Recht//NONSGML Events//EN
CALSCALE:GREGORIAN
X-ORIGINAL-URL:https://events.intrecht.de/termine/
X-WR-CALDESC:Events | FID-Recht - Events
BEGIN:VEVENT
UID:20200602T0945Z-1591091115.9737-EO-599-1@172.16.200.141
STATUS:CONFIRMED
DTSTAMP:20260423T060135Z
CREATED:20260413T104114Z
LAST-MODIFIED:20260413T104114Z
DTSTART;VALUE=DATE:20260628
DTEND;VALUE=DATE:20260704
SUMMARY: Law in the Face of the Changing Problems of the World (World Congr
 ess of the International Association for Philosophy of Law and Social Philo
 sophy)
DESCRIPTION: 28.6.-3.7.2026 / Istanbul (Einreichungsfrist: 15.4.2026) https
 ://ivr2026istanbul.org/
X-ALT-DESC;FMTTYPE=text/html: <p>28.6.-3.7.2026 / Istanbul <strong>(Einreic
 hungsfrist: 15.4.2026)</strong></p><p><a href="https://ivr2026istanbul.org/
 ">https://ivr2026istanbul.org/</a></p><p>[av_button label='iCal-Export' lin
 k='./feed/eo-events' link_target='' size='small' position='center' label_di
 splay='' title_attr='' icon_select='yes' icon='ue85b' font='entypo-fontello
 ' color='custom' custom_bg='#b5123e' custom_font='#ffffff' av_uid='' id='' 
 custom_class='' admin_preview_bg='']</p>
CATEGORIES:Recht interdisziplinär
LOCATION:Ausland
GEO:0.000000;0.000000
ORGANIZER;CN="ViFa-Recht":MAILTO:vifa-recht@sbb.spk-berlin.de
URL;VALUE=URI:https://events.intrecht.de/termine/termin/law-in-the-face-of-
 the-changing-problems-of-the-world-world-congress-of-the-international-asso
 ciation-for-philosophy-of-law-and-social-philosophy/
END:VEVENT
BEGIN:VTIMEZONE
TZID:Europe/Berlin
BEGIN:DAYLIGHT
TZOFFSETFROM:+0100
TZOFFSETTO:+0200
DTSTART:20260329T010000
TZNAME:CEST
END:DAYLIGHT
END:VTIMEZONE
END:VCALENDAR
