BEGIN:VCALENDAR
VERSION:2.0
PRODID:-//Events | FID-Recht//NONSGML Events//EN
CALSCALE:GREGORIAN
X-ORIGINAL-URL:https://events.intrecht.de/termine/
X-WR-CALDESC:Events | FID-Recht - Events
BEGIN:VEVENT
UID:20220211T1546Z-1644594412.4532-EO-5890-1@172.16.200.141
STATUS:CONFIRMED
DTSTAMP:20260422T111930Z
CREATED:20220207T171506Z
LAST-MODIFIED:20220207T171506Z
DTSTART;TZID=Europe/Berlin:20220218T120000
DTEND;TZID=Europe/Berlin:20220218T130000
SUMMARY: Law for Real (with Susanne Baer) (Online-Vortrag)
DESCRIPTION: 18.2.2022 12-13 Uhr\, Online https://minervalawnetwork.com/eve
 nts/law-for-real-a-conversation-with-justice-prof-susanne-baer-llm-michigan
 /  
X-ALT-DESC;FMTTYPE=text/html: <p>18.2.2022 12-13 Uhr\, Online</p><p><a href
 ="https://minervalawnetwork.com/events/law-for-real-a-conversation-with-jus
 tice-prof-susanne-baer-llm-michigan/">https://minervalawnetwork.com/events/
 law-for-real-a-conversation-with-justice-prof-susanne-baer-llm-michigan/</a
 ></p><p> </p><p>[av_button label='iCal-Export' link='./feed/eo-events' link
 _target='' size='small' position='center' label_display='' title_attr='' ic
 on_select='yes' icon='ue85b' font='entypo-fontello' color='custom' custom_b
 g='#b5123e' custom_font='#ffffff' av_uid='' id='' custom_class='' admin_pre
 view_bg='']</p>
CATEGORIES:Recht interdisziplinär
LOCATION:Online
GEO:0.000000;0.000000
ORGANIZER;CN="ViFa-Recht":MAILTO:vifa-recht@sbb.spk-berlin.de
URL;VALUE=URI:https://events.intrecht.de/termine/termin/law-for-real-with-s
 usanne-baer-online-vortrag/
END:VEVENT
BEGIN:VTIMEZONE
TZID:Europe/Berlin
BEGIN:STANDARD
TZOFFSETFROM:+0200
TZOFFSETTO:+0100
DTSTART:20211031T010000
TZNAME:CET
END:STANDARD
END:VTIMEZONE
END:VCALENDAR
