BEGIN:VCALENDAR
VERSION:2.0
PRODID:-//Events | FID-Recht//NONSGML Events//EN
CALSCALE:GREGORIAN
X-ORIGINAL-URL:https://events.intrecht.de/termine/
X-WR-CALDESC:Events | FID-Recht - Events
BEGIN:VEVENT
UID:20230418T0559Z-1681797553.6384-EO-8222-1@172.16.200.151
STATUS:CONFIRMED
DTSTAMP:20260425T220001Z
CREATED:20230206T113055Z
LAST-MODIFIED:20230206T113055Z
DTSTART;VALUE=DATE:20230217
DTEND;VALUE=DATE:20230218
SUMMARY: Law for a Better Future: The Experience of an Interdisciplinary Ap
 proach (Vortrag)
DESCRIPTION: 17.2.2023 / Online https://law.mpg.de/event/law-for-a-better-f
 uture-the-experience-of-an-interdisciplinary-approach/  
X-ALT-DESC;FMTTYPE=text/html: <p>17.2.2023 / Online</p><p><a href="https://
 law.mpg.de/event/law-for-a-better-future-the-experience-of-an-interdiscipli
 nary-approach/">https://law.mpg.de/event/law-for-a-better-future-the-experi
 ence-of-an-interdisciplinary-approach/</a></p><p> </p><p>[av_button label='
 iCal-Export' link='./feed/eo-events' link_target='' size='small' position='
 center' label_display='' title_attr='' icon_select='yes' icon='ue85b' font=
 'entypo-fontello' color='custom' custom_bg='#b5123e' custom_font='#ffffff' 
 av_uid='' id='' custom_class='' admin_preview_bg='']</p>
CATEGORIES:Recht interdisziplinär
LOCATION:Online
GEO:0.000000;0.000000
ORGANIZER;CN="ViFa-Recht":MAILTO:vifa-recht@sbb.spk-berlin.de
URL;VALUE=URI:https://events.intrecht.de/termine/termin/law-for-a-better-fu
 ture-the-experience-of-an-interdisciplinary-approach-vortrag/
END:VEVENT
BEGIN:VTIMEZONE
TZID:Europe/Berlin
BEGIN:STANDARD
TZOFFSETFROM:+0200
TZOFFSETTO:+0100
DTSTART:20221030T010000
TZNAME:CET
END:STANDARD
END:VTIMEZONE
END:VCALENDAR
