BEGIN:VCALENDAR
VERSION:2.0
PRODID:-//Events | FID-Recht//NONSGML Events//EN
CALSCALE:GREGORIAN
X-ORIGINAL-URL:https://events.intrecht.de/termine/
X-WR-CALDESC:Events | FID-Recht - Events
BEGIN:VEVENT
UID:20200603T1418Z-1591193923.3362-EO-587-1@172.16.200.141
STATUS:CONFIRMED
DTSTAMP:20260425T142556Z
CREATED:20230222T105822Z
LAST-MODIFIED:20230222T105822Z
DTSTART;VALUE=DATE:20230724
DTEND;VALUE=DATE:20230726
SUMMARY: Law & Extractivism in the Anthropocene (Workshop)
DESCRIPTION: 24.-25.7.2023 / Melbourne (Frist für Einreichungen: 31.3.2023)
  https://criticallegalthinking.com/2023/02/22/two-cfps-law-extractivism-in-
 the-anthropocene-and-the-inhuman-in-the-human-laws-for-the-anthropocene/
X-ALT-DESC;FMTTYPE=text/html: <p>24.-25.7.2023 / Melbourne <strong>(Frist f
 ür Einreichungen: 31.3.2023)</strong></p><p><a href="https://criticallegalt
 hinking.com/2023/02/22/two-cfps-law-extractivism-in-the-anthropocene-and-th
 e-inhuman-in-the-human-laws-for-the-anthropocene/">https://criticallegalthi
 nking.com/2023/02/22/two-cfps-law-extractivism-in-the-anthropocene-and-the-
 inhuman-in-the-human-laws-for-the-anthropocene/</a></p><p>[av_button label=
 'iCal-Export' link='./feed/eo-events' link_target='' size='small' position=
 'center' label_display='' title_attr='' icon_select='yes' icon='ue85b' font
 ='entypo-fontello' color='custom' custom_bg='#b5123e' custom_font='#ffffff'
  av_uid='' id='' custom_class='' admin_preview_bg='']</p>
CATEGORIES:Recht interdisziplinär
LOCATION:Ausland
GEO:0.000000;0.000000
ORGANIZER;CN="ViFa-Recht":MAILTO:vifa-recht@sbb.spk-berlin.de
URL;VALUE=URI:https://events.intrecht.de/termine/termin/law-extractivism-in
 -the-anthropocene-workshop/
END:VEVENT
BEGIN:VTIMEZONE
TZID:Europe/Berlin
BEGIN:DAYLIGHT
TZOFFSETFROM:+0100
TZOFFSETTO:+0200
DTSTART:20230326T010000
TZNAME:CEST
END:DAYLIGHT
END:VTIMEZONE
END:VCALENDAR
