BEGIN:VCALENDAR
VERSION:2.0
PRODID:-//Events | FID-Recht//NONSGML Events//EN
CALSCALE:GREGORIAN
X-ORIGINAL-URL:https://events.intrecht.de/termine/
X-WR-CALDESC:Events | FID-Recht - Events
BEGIN:VEVENT
UID:20200603T1418Z-1591193923.3362-EO-587-1@172.16.200.141
STATUS:CONFIRMED
DTSTAMP:20260422T140703Z
CREATED:20240425T121123Z
LAST-MODIFIED:20240425T121123Z
DTSTART;VALUE=DATE:20241010
DTEND;VALUE=DATE:20241012
SUMMARY: Law & (De)Valuation Practices (Conference)
DESCRIPTION: 10.-11.10.2024 / Amsterdam (Einreichungsfrist: 9.6.2024) https
 ://acil.uva.nl/content/events/2024/10/law–devaluation.html?origin=mRJepSkVR
 iCZdz7ANaNezQ
X-ALT-DESC;FMTTYPE=text/html: <p>10.-11.10.2024 / Amsterdam <strong>(Einrei
 chungsfrist:</strong> <strong>9.6.2024)</strong></p><p><a href="https://aci
 l.uva.nl/content/events/2024/10/law--devaluation.html?origin=mRJepSkVRiCZdz
 7ANaNezQ">https://acil.uva.nl/content/events/2024/10/law--devaluation.html?
 origin=mRJepSkVRiCZdz7ANaNezQ</a></p><p>[av_button label='iCal-Export' link
 ='./feed/eo-events' link_target='' size='small' position='center' label_dis
 play='' title_attr='' icon_select='yes' icon='ue85b' font='entypo-fontello'
  color='custom' custom_bg='#b5123e' custom_font='#ffffff' av_uid='' id='' c
 ustom_class='' admin_preview_bg='']</p>
CATEGORIES:Recht interdisziplinär
LOCATION:Ausland
GEO:0.000000;0.000000
ORGANIZER;CN="ViFa-Recht":MAILTO:vifa-recht@sbb.spk-berlin.de
URL;VALUE=URI:https://events.intrecht.de/termine/termin/law-devaluation-pra
 ctices-conference/
END:VEVENT
BEGIN:VTIMEZONE
TZID:Europe/Berlin
BEGIN:DAYLIGHT
TZOFFSETFROM:+0100
TZOFFSETTO:+0200
DTSTART:20240331T010000
TZNAME:CEST
END:DAYLIGHT
END:VTIMEZONE
END:VCALENDAR
