BEGIN:VCALENDAR
VERSION:2.0
PRODID:-//Events | FID-Recht//NONSGML Events//EN
CALSCALE:GREGORIAN
X-ORIGINAL-URL:https://events.intrecht.de/termine/
X-WR-CALDESC:Events | FID-Recht - Events
BEGIN:VEVENT
UID:20200603T1418Z-1591193923.3362-EO-587-1@172.16.200.141
STATUS:CONFIRMED
DTSTAMP:20260422T110459Z
CREATED:20240223T132411Z
LAST-MODIFIED:20240223T132411Z
DTSTART;VALUE=DATE:20240405
DTEND;VALUE=DATE:20240406
SUMMARY: Law\, Change\, and Time in the Age of Cognitive Sciences (Hybrid E
 vent)
DESCRIPTION: 5.4.2024 / Online und Maastricht https://www.maastrichtunivers
 ity.nl/events/conference-%E2%80%9Claw-change-and-time-age-cognitive-science
 s%E2%80%9D%C2%A0
X-ALT-DESC;FMTTYPE=text/html: <p>5.4.2024 / Online und Maastricht</p><p><a 
 href="https://www.maastrichtuniversity.nl/events/conference-%E2%80%9Claw-ch
 ange-and-time-age-cognitive-sciences%E2%80%9D%C2%A0">https://www.maastricht
 university.nl/events/conference-%E2%80%9Claw-change-and-time-age-cognitive-
 sciences%E2%80%9D%C2%A0</a></p><p>[av_button label='iCal-Export' link='./fe
 ed/eo-events' link_target='' size='small' position='center' label_display='
 ' title_attr='' icon_select='yes' icon='ue85b' font='entypo-fontello' color
 ='custom' custom_bg='#b5123e' custom_font='#ffffff' av_uid='' id='' custom_
 class='' admin_preview_bg='']</p>
CATEGORIES:Recht interdisziplinär
LOCATION:Hybrid
GEO:0.000000;0.000000
ORGANIZER;CN="ViFa-Recht":MAILTO:vifa-recht@sbb.spk-berlin.de
URL;VALUE=URI:https://events.intrecht.de/termine/termin/law-change-and-time
 -in-the-age-of-cognitive-sciences-hybrid-event/
END:VEVENT
BEGIN:VTIMEZONE
TZID:Europe/Berlin
BEGIN:DAYLIGHT
TZOFFSETFROM:+0100
TZOFFSETTO:+0200
DTSTART:20240331T010000
TZNAME:CEST
END:DAYLIGHT
END:VTIMEZONE
END:VCALENDAR
