BEGIN:VCALENDAR
VERSION:2.0
PRODID:-//Events | FID-Recht//NONSGML Events//EN
CALSCALE:GREGORIAN
X-ORIGINAL-URL:https://events.intrecht.de/termine/
X-WR-CALDESC:Events | FID-Recht - Events
BEGIN:VEVENT
UID:20200603T1418Z-1591193923.3362-EO-587-1@172.16.200.141
STATUS:CONFIRMED
DTSTAMP:20260423T015927Z
CREATED:20250507T092143Z
LAST-MODIFIED:20250507T092143Z
DTSTART;VALUE=DATE:20250507
DTEND;VALUE=DATE:20250508
SUMMARY: Law as Code (Online Event / Minerva Fast Track Research Group „Art
 ificial Justice“)
DESCRIPTION: 7.5.2025 / Online https://events.mpipriv.de/b?p=speaker_series
 _mit_stephan_breidenbach
X-ALT-DESC;FMTTYPE=text/html: <p>7.5.2025 / Online</p><p><a href="https://e
 vents.mpipriv.de/b?p=speaker_series_mit_stephan_breidenbach">https://events
 .mpipriv.de/b?p=speaker_series_mit_stephan_breidenbach</a></p><p>[av_button
  label='iCal-Export' link='./feed/eo-events' link_target='' size='small' po
 sition='center' label_display='' title_attr='' icon_select='yes' icon='ue85
 b' font='entypo-fontello' color='custom' custom_bg='#b5123e' custom_font='#
 ffffff' av_uid='' id='' custom_class='' admin_preview_bg='']</p>
CATEGORIES:Zivilrecht
LOCATION:Online
GEO:0.000000;0.000000
ORGANIZER;CN="ViFa-Recht":MAILTO:vifa-recht@sbb.spk-berlin.de
URL;VALUE=URI:https://events.intrecht.de/termine/termin/law-as-code-online-
 event-minerva-fast-track-research-group-artificial-justice/
END:VEVENT
BEGIN:VTIMEZONE
TZID:Europe/Berlin
BEGIN:DAYLIGHT
TZOFFSETFROM:+0100
TZOFFSETTO:+0200
DTSTART:20250330T010000
TZNAME:CEST
END:DAYLIGHT
END:VTIMEZONE
END:VCALENDAR
