BEGIN:VCALENDAR
VERSION:2.0
PRODID:-//Events | FID-Recht//NONSGML Events//EN
CALSCALE:GREGORIAN
X-ORIGINAL-URL:https://events.intrecht.de/termine/
X-WR-CALDESC:Events | FID-Recht - Events
BEGIN:VEVENT
UID:20201230T0522Z-1609305756.0115-EO-2780-1@172.16.200.141
STATUS:CONFIRMED
DTSTAMP:20260421T102733Z
CREATED:20201229T161728Z
LAST-MODIFIED:20201229T161728Z
DTSTART;VALUE=DATE:20210131
DTEND;VALUE=DATE:20210131
SUMMARY: Law and the City – 14th McGill Graduate Law Conference (Konferenz)
  (CfP)
DESCRIPTION: 6.-7.5.2021\, Montreal (Frist für Einreichungen: 31.1.2021) ht
 tps://www.mcgill.ca/law/channels/news/call-papers-law-and-city-annual-gradu
 ate-conference-326731  
X-ALT-DESC;FMTTYPE=text/html: <p>6.-7.5.2021\, Montreal (Frist für Einreich
 ungen: 31.1.2021)</p><p><a href="https://www.mcgill.ca/law/channels/news/ca
 ll-papers-law-and-city-annual-graduate-conference-326731">https://www.mcgil
 l.ca/law/channels/news/call-papers-law-and-city-annual-graduate-conference-
 326731</a></p><p> </p><p>[av_button label='iCal-Export' link='./feed/eo-eve
 nts' link_target='' size='small' position='center' label_display='' title_a
 ttr='' icon_select='yes' icon='ue85b' font='entypo-fontello' color='custom'
  custom_bg='#b5123e' custom_font='#ffffff' av_uid='' id='' custom_class='' 
 admin_preview_bg='']</p>
CATEGORIES:Recht interdisziplinär
LOCATION:Ausland
GEO:0.000000;0.000000
ORGANIZER;CN="ViFa-Recht":MAILTO:vifa-recht@sbb.spk-berlin.de
URL;VALUE=URI:https://events.intrecht.de/termine/termin/law-and-the-city-14
 th-mcgill-graduate-law-conference-konferenz-cfp/
END:VEVENT
BEGIN:VTIMEZONE
TZID:Europe/Berlin
BEGIN:STANDARD
TZOFFSETFROM:+0200
TZOFFSETTO:+0100
DTSTART:20201025T010000
TZNAME:CET
END:STANDARD
END:VTIMEZONE
END:VCALENDAR
