BEGIN:VCALENDAR
VERSION:2.0
PRODID:-//Events | FID-Recht//NONSGML Events//EN
CALSCALE:GREGORIAN
X-ORIGINAL-URL:https://events.intrecht.de/termine/
X-WR-CALDESC:Events | FID-Recht - Events
BEGIN:VEVENT
UID:20200602T0945Z-1591091115.9737-EO-599-1@172.16.200.141
STATUS:CONFIRMED
DTSTAMP:20260425T193218Z
CREATED:20260310T091208Z
LAST-MODIFIED:20260310T091208Z
DTSTART;VALUE=DATE:20260827
DTEND;VALUE=DATE:20260829
SUMMARY: Law and Security (Conference)
DESCRIPTION: 27.-28.8.2026 / Kopenhagen (Einreichungsfrist: 1.5.2026) https
 ://jura.ku.dk/ceres/english/events/conference-law-and-security/
X-ALT-DESC;FMTTYPE=text/html: <p>27.-28.8.2026 / Kopenhagen <strong>(Einrei
 chungsfrist: 1.5.2026)</strong></p><p><a href="https://jura.ku.dk/ceres/eng
 lish/events/conference-law-and-security/">https://jura.ku.dk/ceres/english/
 events/conference-law-and-security/</a></p><p>[av_button label='iCal-Export
 ' link='./feed/eo-events' link_target='' size='small' position='center' lab
 el_display='' title_attr='' icon_select='yes' icon='ue85b' font='entypo-fon
 tello' color='custom' custom_bg='#b5123e' custom_font='#ffffff' av_uid='' i
 d='' custom_class='' admin_preview_bg='']</p>
CATEGORIES:Recht interdisziplinär
LOCATION:Ausland
GEO:0.000000;0.000000
ORGANIZER;CN="ViFa-Recht":MAILTO:vifa-recht@sbb.spk-berlin.de
URL;VALUE=URI:https://events.intrecht.de/termine/termin/law-and-security-co
 nference/
END:VEVENT
BEGIN:VTIMEZONE
TZID:Europe/Berlin
BEGIN:DAYLIGHT
TZOFFSETFROM:+0100
TZOFFSETTO:+0200
DTSTART:20260329T010000
TZNAME:CEST
END:DAYLIGHT
END:VTIMEZONE
END:VCALENDAR
