BEGIN:VCALENDAR
VERSION:2.0
PRODID:-//Events | FID-Recht//NONSGML Events//EN
CALSCALE:GREGORIAN
X-ORIGINAL-URL:https://events.intrecht.de/termine/
X-WR-CALDESC:Events | FID-Recht - Events
BEGIN:VEVENT
UID:20210314T2008Z-1615752527.9503-EO-3517-1@172.16.200.141
STATUS:CONFIRMED
DTSTAMP:20260421T102707Z
CREATED:20210311T172056Z
LAST-MODIFIED:20210311T172056Z
DTSTART;VALUE=DATE:20210531
DTEND;VALUE=DATE:20210531
SUMMARY: Law and Policy in European Integration (Max Planck Law Teaching Se
 ssion) (mit Stefan Vogenauer und Jan-Henrik Meyer) (Online-Seminar)
DESCRIPTION: 31.5.2021\, Frankfurt (Main)/Online (Anmeldefrist: 19.3.2021) 
 https://law.mpg.de/events/law-and-policy-in-european-integration/  
X-ALT-DESC;FMTTYPE=text/html: <p>31.5.2021\, Frankfurt (Main)/Online (Anmel
 defrist: 19.3.2021)</p><p><a href="https://law.mpg.de/events/law-and-policy
 -in-european-integration/">https://law.mpg.de/events/law-and-policy-in-euro
 pean-integration/</a></p><p> </p><p>[av_button label='iCal-Export' link='./
 feed/eo-events' link_target='' size='small' position='center' label_display
 ='' title_attr='' icon_select='yes' icon='ue85b' font='entypo-fontello' col
 or='custom' custom_bg='#b5123e' custom_font='#ffffff' av_uid='' id='' custo
 m_class='' admin_preview_bg='']</p>
CATEGORIES:Europäisches / Internationales Recht
LOCATION:Online
GEO:0.000000;0.000000
ORGANIZER;CN="ViFa-Recht":MAILTO:vifa-recht@sbb.spk-berlin.de
URL;VALUE=URI:https://events.intrecht.de/termine/termin/law-and-policy-in-e
 uropean-integration-max-planck-law-teaching-session-mit-stefan-vogenauer-un
 d-jan-henrik-meyer-online-seminar/
END:VEVENT
BEGIN:VTIMEZONE
TZID:Europe/Berlin
BEGIN:DAYLIGHT
TZOFFSETFROM:+0100
TZOFFSETTO:+0200
DTSTART:20210328T010000
TZNAME:CEST
END:DAYLIGHT
END:VTIMEZONE
END:VCALENDAR
