BEGIN:VCALENDAR
VERSION:2.0
PRODID:-//Events | FID-Recht//NONSGML Events//EN
CALSCALE:GREGORIAN
X-ORIGINAL-URL:https://events.intrecht.de/termine/
X-WR-CALDESC:Events | FID-Recht - Events
BEGIN:VEVENT
UID:20200603T1418Z-1591193923.3362-EO-587-1@172.16.200.141
STATUS:CONFIRMED
DTSTAMP:20260425T233244Z
CREATED:20231115T122252Z
LAST-MODIFIED:20231115T122556Z
DTSTART;VALUE=DATE:20240926
DTEND;VALUE=DATE:20240928
SUMMARY: Law and Justice in the 21st Century (Third SFPJ Conference / Socié
 té française pour la philosophie et la théorie juridiques et politiques)
DESCRIPTION: 26.-27.9.2024 / Straßburg (Einreichungsfrist: 31.3.2024) https
 ://b0ace637-c9e4-4699-ac80-267d17ce192d.filesusr.com/ugd/29aa4e_893bb549171
 14aa880a42276e4ded1ec.pdf
X-ALT-DESC;FMTTYPE=text/html: <p>26.-27.9.2024 / Straßburg <strong>(Einreic
 hungsfrist: 31.3.2024)</strong></p><p><a href="https://b0ace637-c9e4-4699-a
 c80-267d17ce192d.filesusr.com/ugd/29aa4e_893bb54917114aa880a42276e4ded1ec.p
 df">https://b0ace637-c9e4-4699-ac80-267d17ce192d.filesusr.com/ugd/29aa4e_89
 3bb54917114aa880a42276e4ded1ec.pdf</a></p><p>[av_button label='iCal-Export'
  link='./feed/eo-events' link_target='' size='small' position='center' labe
 l_display='' title_attr='' icon_select='yes' icon='ue85b' font='entypo-font
 ello' color='custom' custom_bg='#b5123e' custom_font='#ffffff' av_uid='' id
 ='' custom_class='' admin_preview_bg='']</p>
CATEGORIES:Recht interdisziplinär
LOCATION:Ausland
GEO:0.000000;0.000000
ORGANIZER;CN="ViFa-Recht":MAILTO:vifa-recht@sbb.spk-berlin.de
URL;VALUE=URI:https://events.intrecht.de/termine/termin/law-and-justice-in-
 the-21st-century-third-sfpj-conference-societe-francaise-pour-la-philosophi
 e-et-la-theorie-juridiques-et-politiques/
END:VEVENT
BEGIN:VTIMEZONE
TZID:Europe/Berlin
BEGIN:DAYLIGHT
TZOFFSETFROM:+0100
TZOFFSETTO:+0200
DTSTART:20240331T010000
TZNAME:CEST
END:DAYLIGHT
END:VTIMEZONE
END:VCALENDAR
