BEGIN:VCALENDAR
VERSION:2.0
PRODID:-//Events | FID-Recht//NONSGML Events//EN
CALSCALE:GREGORIAN
X-ORIGINAL-URL:https://events.intrecht.de/termine/
X-WR-CALDESC:Events | FID-Recht - Events
BEGIN:VEVENT
UID:20200603T1418Z-1591193923.3362-EO-587-1@172.16.200.141
STATUS:CONFIRMED
DTSTAMP:20260423T073207Z
CREATED:20240708T093104Z
LAST-MODIFIED:20240708T093104Z
DTSTART;VALUE=DATE:20250210
DTEND;VALUE=DATE:20250213
SUMMARY: Law and/in the Anthropocene (2nd conference of the Swiss Network f
 or Law and Society)
DESCRIPTION: 10.-12.2.2025 / Bern (Einreichungsfrist: 30.9.2024) https://la
 wandsociety.ch/wp-content/uploads/2024/07/Call-for-Abstracts_Law-and-in-the
 -Anthropocene.pdf
X-ALT-DESC;FMTTYPE=text/html: <p>10.-12.2.2025 / Bern <strong>(Einreichungs
 frist: 30.9.2024)</strong></p><p><a href="https://lawandsociety.ch/wp-conte
 nt/uploads/2024/07/Call-for-Abstracts_Law-and-in-the-Anthropocene.pdf">http
 s://lawandsociety.ch/wp-content/uploads/2024/07/Call-for-Abstracts_Law-and-
 in-the-Anthropocene.pdf</a></p><p>[av_button label='iCal-Export' link='./fe
 ed/eo-events' link_target='' size='small' position='center' label_display='
 ' title_attr='' icon_select='yes' icon='ue85b' font='entypo-fontello' color
 ='custom' custom_bg='#b5123e' custom_font='#ffffff' av_uid='' id='' custom_
 class='' admin_preview_bg='']</p>
CATEGORIES:Recht interdisziplinär
LOCATION:Ausland
GEO:0.000000;0.000000
ORGANIZER;CN="ViFa-Recht":MAILTO:vifa-recht@sbb.spk-berlin.de
URL;VALUE=URI:https://events.intrecht.de/termine/termin/law-and-in-the-anth
 ropocene-2nd-conference-of-the-swiss-network-for-law-and-society/
END:VEVENT
BEGIN:VTIMEZONE
TZID:Europe/Berlin
BEGIN:STANDARD
TZOFFSETFROM:+0200
TZOFFSETTO:+0100
DTSTART:20241027T010000
TZNAME:CET
END:STANDARD
END:VTIMEZONE
END:VCALENDAR
