BEGIN:VCALENDAR
VERSION:2.0
PRODID:-//Events | FID-Recht//NONSGML Events//EN
CALSCALE:GREGORIAN
X-ORIGINAL-URL:https://events.intrecht.de/termine/
X-WR-CALDESC:Events | FID-Recht - Events
BEGIN:VEVENT
UID:20230511T2115Z-1683839745.3197-EO-8308-1@172.16.200.151
STATUS:CONFIRMED
DTSTAMP:20260425T182842Z
CREATED:20230207T161658Z
LAST-MODIFIED:20230207T161658Z
DTSTART;VALUE=DATE:20230608
DTEND;VALUE=DATE:20230610
SUMMARY: Law\, AI\, and Regulation (Konferenz)
DESCRIPTION: 8.-9.6.2023 / Rotterdam https://www.eur.nl/en/esl/news/law-ai-
 and-regulation-lair-conference  
X-ALT-DESC;FMTTYPE=text/html: <p>8.-9.6.2023 / Rotterdam</p><p><a href="htt
 ps://www.eur.nl/en/esl/news/law-ai-and-regulation-lair-conference">https://
 www.eur.nl/en/esl/news/law-ai-and-regulation-lair-conference</a></p><p> </p
 ><p>[av_button label='iCal-Export' link='./feed/eo-events' link_target='' s
 ize='small' position='center' label_display='' title_attr='' icon_select='y
 es' icon='ue85b' font='entypo-fontello' color='custom' custom_bg='#b5123e' 
 custom_font='#ffffff' av_uid='' id='' custom_class='' admin_preview_bg='']<
 /p>
CATEGORIES:Recht interdisziplinär
LOCATION:Ausland
GEO:0.000000;0.000000
ORGANIZER;CN="ViFa-Recht":MAILTO:vifa-recht@sbb.spk-berlin.de
URL;VALUE=URI:https://events.intrecht.de/termine/termin/law-ai-and-regulati
 on-konferenz/
END:VEVENT
BEGIN:VTIMEZONE
TZID:Europe/Berlin
BEGIN:DAYLIGHT
TZOFFSETFROM:+0100
TZOFFSETTO:+0200
DTSTART:20230326T010000
TZNAME:CEST
END:DAYLIGHT
END:VTIMEZONE
END:VCALENDAR
